<?xml version="1.0" encoding="UTF-8" standalone="no"?>
<metadata xml:lang="en">
<Esri>
<CreaDate>20260924</CreaDate>
<CreaTime>12450600</CreaTime>
<ArcGISFormat>1.0</ArcGISFormat>
<SyncOnce>FALSE</SyncOnce>
<DataProperties>
<itemProps>
<itemName Sync="FALSE">Master_Title_Plats</itemName>
<nativeExtBox>
<westBL Sync="TRUE">-19951842.623500</westBL>
<eastBL Sync="TRUE">20025705.128782</eastBL>
<southBL Sync="TRUE">6657006.112682</southBL>
<northBL Sync="TRUE">11564318.854200</northBL>
<exTypeCode Sync="TRUE">1</exTypeCode>
</nativeExtBox>
<imsContentType export="False">002</imsContentType>
</itemProps>
<coordRef>
<type Sync="TRUE">Projected</type>
<geogcsn Sync="TRUE">GCS_WGS_1984</geogcsn>
<csUnits Sync="TRUE">Linear Unit: Meter (1.000000)</csUnits>
<projcsn Sync="TRUE">WGS_1984_Web_Mercator_Auxiliary_Sphere</projcsn>
<peXml Sync="TRUE">&lt;ProjectedCoordinateSystem xsi:type='typens:ProjectedCoordinateSystem' xmlns:xsi='http://www.w3.org/2001/XMLSchema-instance' xmlns:xs='http://www.w3.org/2001/XMLSchema' xmlns:typens='http://www.esri.com/schemas/ArcGIS/3.5.0'&gt;&lt;WKT&gt;PROJCS[&amp;quot;WGS_1984_Web_Mercator_Auxiliary_Sphere&amp;quot;,GEOGCS[&amp;quot;GCS_WGS_1984&amp;quot;,DATUM[&amp;quot;D_WGS_1984&amp;quot;,SPHEROID[&amp;quot;WGS_1984&amp;quot;,6378137.0,298.257223563]],PRIMEM[&amp;quot;Greenwich&amp;quot;,0.0],UNIT[&amp;quot;Degree&amp;quot;,0.0174532925199433]],PROJECTION[&amp;quot;Mercator_Auxiliary_Sphere&amp;quot;],PARAMETER[&amp;quot;False_Easting&amp;quot;,0.0],PARAMETER[&amp;quot;False_Northing&amp;quot;,0.0],PARAMETER[&amp;quot;Central_Meridian&amp;quot;,0.0],PARAMETER[&amp;quot;Standard_Parallel_1&amp;quot;,0.0],PARAMETER[&amp;quot;Auxiliary_Sphere_Type&amp;quot;,0.0],UNIT[&amp;quot;Meter&amp;quot;,1.0],AUTHORITY[&amp;quot;EPSG&amp;quot;,3857]]&lt;/WKT&gt;&lt;XOrigin&gt;-20037700&lt;/XOrigin&gt;&lt;YOrigin&gt;-30241100&lt;/YOrigin&gt;&lt;XYScale&gt;148923141.92838538&lt;/XYScale&gt;&lt;ZOrigin&gt;-100000&lt;/ZOrigin&gt;&lt;ZScale&gt;10000&lt;/ZScale&gt;&lt;MOrigin&gt;-100000&lt;/MOrigin&gt;&lt;MScale&gt;10000&lt;/MScale&gt;&lt;XYTolerance&gt;0.001&lt;/XYTolerance&gt;&lt;ZTolerance&gt;0.001&lt;/ZTolerance&gt;&lt;MTolerance&gt;0.001&lt;/MTolerance&gt;&lt;HighPrecision&gt;true&lt;/HighPrecision&gt;&lt;WKID&gt;102100&lt;/WKID&gt;&lt;LatestWKID&gt;3857&lt;/LatestWKID&gt;&lt;/ProjectedCoordinateSystem&gt;</peXml>
</coordRef>
<RasterProperties>
<General>
<PixelDepth Sync="TRUE">1</PixelDepth>
<HasColormap Sync="TRUE">FALSE</HasColormap>
<CompressionType Sync="TRUE">None</CompressionType>
<NumBands Sync="TRUE">1</NumBands>
<Format Sync="TRUE">AMD</Format>
<HasPyramids Sync="TRUE">TRUE</HasPyramids>
<SourceType Sync="TRUE">continuous</SourceType>
<PixelType Sync="TRUE">unsigned integer</PixelType>
<NoDataValue Sync="TRUE">
</NoDataValue>
</General>
<Properties>
<MaxImageHeight Sync="TRUE">4100</MaxImageHeight>
<MaxImageWidth Sync="TRUE">15000</MaxImageWidth>
<MaxRecordCount Sync="TRUE">1000</MaxRecordCount>
<MaxDownloadImageCount Sync="TRUE">20</MaxDownloadImageCount>
<MaxDownloadSizeLimit Sync="TRUE">2048</MaxDownloadSizeLimit>
<MaxMosaicImageCount Sync="TRUE">30</MaxMosaicImageCount>
<DefaultCompressionQuality Sync="TRUE">80</DefaultCompressionQuality>
<DefaultCompressionTolerance Sync="TRUE">0.01</DefaultCompressionTolerance>
<BlendWidth Sync="TRUE">10</BlendWidth>
<ViewpointSpacingX Sync="TRUE">600</ViewpointSpacingX>
<ViewpointSpacingY Sync="TRUE">300</ViewpointSpacingY>
<AllowedItemMetadata Sync="TRUE">Basic</AllowedItemMetadata>
<DefaultResamplingMethod Sync="TRUE">1</DefaultResamplingMethod>
<AllowedMosaicMethods Sync="TRUE">Center,NorthWest,LockRaster,ByAttribute,Nadir,Viewpoint,Seamline,None</AllowedMosaicMethods>
<AllowedCompressions Sync="TRUE">LZ77,JPEG,LERC</AllowedCompressions>
<AllowedMensurationCapabilities Sync="TRUE">Basic</AllowedMensurationCapabilities>
<AvailableMensurationCapabilities Sync="TRUE">None,Basic,Base-Top Height,Top-Top Shadow Height,Base-Top Shadow Height,3D</AvailableMensurationCapabilities>
<ClipToBoundary Sync="TRUE">0</ClipToBoundary>
<FootprintMayContainNoData Sync="TRUE">-1</FootprintMayContainNoData>
<CellSizeTolerance Sync="TRUE">0.8</CellSizeTolerance>
<MinimumPixelContribution Sync="TRUE">1</MinimumPixelContribution>
<AvailableMosaicMethods Sync="TRUE">NorthWest,Center,LockRaster,ByAttribute,Nadir,Viewpoint,Seamline,None</AvailableMosaicMethods>
<AvailableCompressionMethods Sync="TRUE">None,JPEG,LZ77,LERC</AvailableCompressionMethods>
<AvailableItemMetadataLevels Sync="TRUE">None,Basic,Full</AvailableItemMetadataLevels>
<BandDefinitionKeyword Sync="TRUE">NONE</BandDefinitionKeyword>
<_docversion_ Sync="TRUE">10</_docversion_>
<AllowedFields Sync="TRUE">Name,MinPS,MaxPS,LowPS,HighPS,Tag,GroupName,ProductName,CenterX,CenterY,ZOrder,Shape_Length,Shape_Area</AllowedFields>
<MaxCellSize Sync="TRUE">230.78140376948</MaxCellSize>
<LowCellSize Sync="TRUE">2.49264769390188E-02</LowCellSize>
<HighCellSize Sync="TRUE">23.078140376948</HighCellSize>
<PixelCacheLocation Sync="FALSE">withheld</PixelCacheLocation>
<ClipToFootprint Sync="TRUE">-1</ClipToFootprint>
<TimeStamp.RemoveItems Sync="TRUE">46252.8855889005</TimeStamp.RemoveItems>
<DataType Sync="TRUE">Generic</DataType>
<AvailableFields Sync="TRUE">Name,MinPS,MaxPS,LowPS,HighPS,Tag,GroupName,ProductName,CenterX,CenterY,ZOrder,MTR,Meridian,MTP_URL,GLO_Records,Shape.STArea(),Shape.STLength()</AvailableFields>
<SortableFields Sync="TRUE">MinPS,MaxPS,LowPS,HighPS,CenterX,CenterY,ZOrder</SortableFields>
<SortAscending Sync="TRUE">-1</SortAscending>
<MosaicOperator Sync="TRUE">1</MosaicOperator>
<BlendWidthUnits Sync="TRUE">1</BlendWidthUnits>
<ClipOverviewsToFootprint Sync="TRUE">0</ClipOverviewsToFootprint>
<HasDodgingTable Sync="TRUE">0</HasDodgingTable>
<ApplyColorCorrection Sync="TRUE">0</ApplyColorCorrection>
<UseTime Sync="TRUE">0</UseTime>
<StartTimeFieldName Sync="TRUE">
</StartTimeFieldName>
<EndTimeFieldName Sync="TRUE">
</EndTimeFieldName>
<TimeValueFormat Sync="TRUE">
</TimeValueFormat>
<UseRange Sync="TRUE">0</UseRange>
<TimeInterval Sync="TRUE">
</TimeInterval>
<TimeIntervalUnits Sync="TRUE">
</TimeIntervalUnits>
<SortField Sync="TRUE">MinPS</SortField>
<SortValue Sync="TRUE">
</SortValue>
</Properties>
<Functions Sync="TRUE">
<Function Description="Performs on-the-fly mosaic on a raster catalog." Name="Mosaic Function">
</Function>
</Functions>
</RasterProperties>
</DataProperties>
<SyncDate>20260901</SyncDate>
<SyncTime>14045200</SyncTime>
<ModDate>20260929</ModDate>
<ModTime>14024100</ModTime>
<scaleRange>
<minScale>150000000</minScale>
<maxScale>5000</maxScale>
</scaleRange>
<ArcGISProfile>ItemDescription</ArcGISProfile>
</Esri>
<mdLang>
<languageCode value="eng">
</languageCode>
<countryCode Sync="TRUE" value="USA">
</countryCode>
</mdLang>
<mdChar>
<CharSetCd value="004">
</CharSetCd>
</mdChar>
<mdHrLv>
<ScopeCd value="005">
</ScopeCd>
</mdHrLv>
<mdHrLvName Sync="TRUE">dataset</mdHrLvName>
<mdDateSt Sync="TRUE">20260929</mdDateSt>
<mdStanName>ArcGIS Metadata</mdStanName>
<mdStanVer>1.0</mdStanVer>
<distInfo>
<distributor>
<distorCont>
<rpOrgName>U.S. Department of Interior, Bureau of Land Management (BLM), Alaska State Office</rpOrgName>
<rpPosName>State Data Administrator</rpPosName>
<rpCntInfo>
<cntAddress addressType="both">
<delPoint>222 West 7th Avenue, Stop 13</delPoint>
<city>Anchorage</city>
<adminArea>AK</adminArea>
<postCode>99513</postCode>
<country>US</country>
<eMailAdd>jlotz@blm.gov</eMailAdd>
</cntAddress>
</rpCntInfo>
<role>
<RoleCd value="005">
</RoleCd>
</role>
</distorCont>
</distributor>
<distTranOps>
<onLineSrc>
<linkage>https://gbp-blm-egis.hub.arcgis.com/pages/alaska</linkage>
</onLineSrc>
</distTranOps>
<distFormat>
<formatName Sync="TRUE">Enterprise Geodatabase Feature Class</formatName>
</distFormat>
</distInfo>
<dataIdInfo>
<placeKeys>
<thesaName>
<resTitle>BLM-STATE</resTitle>
</thesaName>
<keyword>Alaska</keyword>
</placeKeys>
<themeKeys>
<thesaName>
<resTitle>BLM-THEME</resTitle>
</thesaName>
<keyword>Geospatial</keyword>
</themeKeys>
<idCitation>
<citRespParty>
<rpIndName>U.S. Department of the Interior, Bureau of Land Management (BLM)</rpIndName>
<role>
<RoleCd value="006">
</RoleCd>
</role>
</citRespParty>
<resTitle>BLM_AK_Master_Title_Plats_Supplementals</resTitle>
<date>
<pubDate>20260901</pubDate>
</date>
<citRespParty>
<rpOrgName>Bureau of Land Management</rpOrgName>
<role>
<RoleCd value="010">
</RoleCd>
</role>
</citRespParty>
<presForm>
<PresFormCd value="005">
</PresFormCd>
</presForm>
<presForm>
<fgdcGeoform>vector digital data</fgdcGeoform>
</presForm>
</idCitation>
<idAbs>&lt;div style='text-align:Left;'&gt;&lt;div&gt;&lt;p&gt;&lt;span&gt;Georeferenced Master Title Plats - Supplementals&lt;/span&gt;&lt;/p&gt;&lt;/div&gt;&lt;/div&gt;</idAbs>
<idPurp>BLM Alaska Master Title Plats - Supplementals</idPurp>
<idStatus>
<ProgCd value="004">
</ProgCd>
</idStatus>
<idPoC>
<rpOrgName>U.S. Department of Interior, Bureau of Land Management (BLM), Alaska State Office</rpOrgName>
<rpPosName>State Data Administrator</rpPosName>
<rpCntInfo>
<cntAddress addressType="both">
<delPoint>222 West 7th Avenue, Stop 13</delPoint>
<city>Anchorage</city>
<adminArea>AK</adminArea>
<postCode>99513</postCode>
<country>US</country>
<eMailAdd>jlotz@blm.gov</eMailAdd>
</cntAddress>
</rpCntInfo>
<role>
<RoleCd value="007">
</RoleCd>
</role>
</idPoC>
<resMaint>
<maintFreq>
<MaintFreqCd value="009">
</MaintFreqCd>
</maintFreq>
</resMaint>
<searchKeys>
<keyword>Alaska</keyword>
<keyword>Geospatial</keyword>
<keyword>planningCadastre</keyword>
<keyword>mtp</keyword>
<keyword>master</keyword>
<keyword>title</keyword>
<keyword>plats</keyword>
<keyword>lands</keyword>
<keyword>records</keyword>
<keyword>supplementals</keyword>
</searchKeys>
<resConst>
<LegConsts>
<useLimit>The BLM assumes no responsibility for errors or omissions. No warranty is made by the BLM as to the accuracy, reliability, or completeness of these data for individual use or aggregate use with other data; nor shall the act of distribution to contractors, partners, or beyond, constitute any such warranty for individual or aggregate data use with other data. Although these data have been processed successfully on computers of BLM, no warranty, expressed or implied, is made by BLM regarding the use of these data on any other system, or for general or scientific purposes, nor does the fact of distribution constitute or imply any such warranty. In no event shall the BLM have any liability whatsoever for payment of any consequential, incidental, indirect, special, or tort damages of any kind, including, but not limited to, any loss of profits arising out of the use or reliance on the geographic data or arising out of the delivery, installation, operation, or support by BLM.</useLimit>
<othConsts>None, these data are considered public domain.</othConsts>
</LegConsts>
</resConst>
<resConst>
<Consts>
<useLimit>&lt;div style='text-align:Left;'&gt;&lt;div&gt;&lt;p&gt;&lt;span&gt;These data are provided by Bureau of Land Management (BLM) 'as is' and might contain errors or omissions. The User assumes the entire risk associated with its use of these data and bears all responsibility in determining whether these data are fit for the User's intended use. The information contained in these data is dynamic and may change over time. The data are not better than the sources from which they were derived, and both scale and accuracy may vary across the data set. These data might not have the accuracy, resolution, completeness, timeliness, or other characteristics appropriate for applications that potential users of the data may contemplate. The User is encouraged to carefully consider the content of the metadata file associated with these data. These data are neither legal documents nor land surveys, and must not be used as such. Official records may be referenced at most BLM offices. Please report any errors in the data to the BLM office from which it was obtained. The BLM should be cited as the data source in any products derived from these data. Any Users wishing to modify the data should describe the types of modifications they have performed. The User should not misrepresent the data, nor imply that changes made were approved or endorsed by BLM. This data may be updated by the BLM without notification.&lt;/span&gt;&lt;/p&gt;&lt;/div&gt;&lt;/div&gt;</useLimit>
</Consts>
</resConst>
<spatRpType>
<SpatRepTypCd value="001">
</SpatRepTypCd>
</spatRpType>
<dataLang>
<languageCode value="eng">
</languageCode>
<countryCode Sync="TRUE" value="USA">
</countryCode>
</dataLang>
<dataExt>
<geoEle>
<GeoBndBox>
<westBL>-179.3167</westBL>
<eastBL>-129.219</eastBL>
<southBL>51.3545</southBL>
<northBL>71.4464</northBL>
</GeoBndBox>
</geoEle>
</dataExt>
<dataExt>
<exDesc>publication date</exDesc>
<tempEle>
<TempExtent>
<exTemp>
<TM_Instant>
<tmPosition>2019-09-01</tmPosition>
</TM_Instant>
</exTemp>
</TempExtent>
</tempEle>
</dataExt>
<envirDesc Sync="FALSE">Esri ArcGIS 13.5.8.57366</envirDesc>
<dataExt>
<geoEle>
<GeoBndBox esriExtentType="search">
<exTypeCode Sync="FALSE">0</exTypeCode>
<westBL Sync="FALSE">-170</westBL>
<eastBL Sync="FALSE">-129</eastBL>
<northBL Sync="FALSE">72</northBL>
<southBL Sync="FALSE">51</southBL>
</GeoBndBox>
</geoEle>
</dataExt>
<idCredit>Bureau of Land Management, Alaska</idCredit>
<dataChar>
<CharSetCd value="004">
</CharSetCd>
</dataChar>
<tpCat>
<TopicCatCd value="015">
</TopicCatCd>
</tpCat>
</dataIdInfo>
<mdMaint>
<maintFreq>
<MaintFreqCd value="009">
</MaintFreqCd>
</maintFreq>
<maintNote>Last metadata review date: 20260831</maintNote>
</mdMaint>
<dqInfo>
<dqScope>
<scpLvl>
<ScopeCd value="005">
</ScopeCd>
</scpLvl>
</dqScope>
<report type="DQConcConsis">
<measDesc>No assessment conducted.</measDesc>
</report>
<report type="DQCompOm">
<measDesc>There is a one-to-one relationship between each township in the spatial database and on the offical protraction diagrams.</measDesc>
</report>
<report type="DQQuanAttAcc">
<measDesc>This data is a faithful representation of the BLM official protraction diagrams and any data entry issues, typographical errors, and omissions contained within.</measDesc>
</report>
<report dimension="horizontal" type="DQAbsExtPosAcc">
<measDesc>No positional accuracy assessment conducted.</measDesc>
</report>
<dataLineage>
<prcStep>
<stepDesc>Township boundaries were generated from geodetic latitude and longitude coordinate pairs as recorded on BLM's official protraction diagrams of the state of Alaska.</stepDesc>
<stepDateTm>20260901</stepDateTm>
<stepProc>
<rpOrgName>Bureau of Land Management, Alaska State Office</rpOrgName>
<rpPosName>State Data Administrator</rpPosName>
<rpCntInfo>
<cntAddress addressType="both">
<delPoint>222 W. 7th Ave, #13</delPoint>
<city>Anchorage</city>
<adminArea>AK</adminArea>
<postCode>99513</postCode>
<country>US</country>
<eMailAdd>jlotz@blm.gov</eMailAdd>
</cntAddress>
<cntHours>0800-1630</cntHours>
</rpCntInfo>
<role>
<RoleCd value="007">
</RoleCd>
</role>
</stepProc>
</prcStep>
</dataLineage>
</dqInfo>
<spatRepInfo>
<VectSpatRep>
<geometObjs Name="MTP_Footprints">
<geoObjTyp>
<GeoObjTypCd Sync="TRUE" value="002">
</GeoObjTypCd>
</geoObjTyp>
<geoObjCnt Sync="TRUE">21264</geoObjCnt>
</geometObjs>
<topLvl>
<TopoLevCd Sync="TRUE" value="001">
</TopoLevCd>
</topLvl>
</VectSpatRep>
<Georect>
<cellGeo>
<CellGeoCd Sync="TRUE" value="002">
</CellGeoCd>
</cellGeo>
<numDims Sync="TRUE">2</numDims>
<tranParaAv Sync="TRUE">1</tranParaAv>
<chkPtAv Sync="TRUE">0</chkPtAv>
<cornerPts>
<pos Sync="TRUE">-19951842.623500 6657006.112682</pos>
</cornerPts>
<cornerPts>
<pos Sync="TRUE">-19951842.623500 11564318.854200</pos>
</cornerPts>
<cornerPts>
<pos Sync="TRUE">20025705.128782 11564318.854200</pos>
</cornerPts>
<cornerPts>
<pos Sync="TRUE">20025705.128782 6657006.112682</pos>
</cornerPts>
<centerPt>
<pos Sync="TRUE">36931.252641 9110662.483441</pos>
</centerPt>
<axisDimension type="002">
<dimSize Sync="TRUE">1485630631</dimSize>
<dimResol>
<value Sync="TRUE" uom="m">0.026909</value>
</dimResol>
</axisDimension>
<axisDimension type="001">
<dimSize Sync="TRUE">182363715</dimSize>
<dimResol>
<value Sync="TRUE" uom="m">0.026909</value>
</dimResol>
</axisDimension>
<ptInPixel>
<PixOrientCd Sync="TRUE" value="001">
</PixOrientCd>
</ptInPixel>
</Georect>
</spatRepInfo>
<refSysInfo>
<RefSystem>
<refSysID>
<identCode Sync="TRUE" code="3857">
</identCode>
<idCodeSpace Sync="TRUE">EPSG</idCodeSpace>
<idVersion Sync="TRUE">6.18.3(9.3.1.2)</idVersion>
</refSysID>
</RefSystem>
</refSysInfo>
<contInfo>
<ImgDesc>
<contentTyp>
<ContentTypCd Sync="TRUE" value="001">
</ContentTypCd>
</contentTyp>
<covDim>
<Band>
<dimDescrp Sync="TRUE">Band_1</dimDescrp>
<bitsPerVal Sync="TRUE">1</bitsPerVal>
<valUnit>
<UOM type="length">
</UOM>
</valUnit>
</Band>
</covDim>
</ImgDesc>
</contInfo>
<eainfo>
<detailed Name="MTP_Footprints">
<enttyp>
<enttypl>Master Title Plats</enttypl>
<enttypd>Master Title Plats</enttypd>
<enttypt Sync="TRUE">Feature Class</enttypt>
<enttypc Sync="TRUE">21264</enttypc>
</enttyp>
<attr>
<attrlabl>mtr</attrlabl>
<attrdef>MTR contains a formatted, concatenated grouping of meridian, township, township direction, township fraction (if fractional), range, range direction, range fraction (if fractional). Example: C001N001E</attrdef>
<attrdomv>
<udom>Varies by township</udom>
</attrdomv>
<attalias Sync="TRUE">MTR</attalias>
<attrtype Sync="TRUE">String</attrtype>
<attwidth Sync="TRUE">11</attwidth>
<atprecis Sync="TRUE">0</atprecis>
<attscale Sync="TRUE">0</attscale>
</attr>
<attr>
<attrlabl Sync="TRUE">Name</attrlabl>
<attalias Sync="TRUE">Name</attalias>
<attrtype Sync="TRUE">String</attrtype>
<attwidth Sync="TRUE">256</attwidth>
<atprecis Sync="TRUE">0</atprecis>
<attscale Sync="TRUE">0</attscale>
<attrdef>Name</attrdef>
</attr>
<attr>
<attrlabl>meridian</attrlabl>
<attrdef>The principal meridian used for survey control.</attrdef>
<attrdomv>
<edom>
<edomv>C</edomv>
<edomvd>Copper River (12)</edomvd>
</edom>
<edom>
<edomv>S</edomv>
<edomvd>Seward (28)</edomvd>
</edom>
<edom>
<edomv>U</edomv>
<edomvd>Umiat (45)</edomvd>
</edom>
<edom>
<edomv>F</edomv>
<edomvd>Fairbanks (13)</edomvd>
</edom>
<edom>
<edomv>K</edomv>
<edomvd>Kateel (44)</edomvd>
</edom>
</attrdomv>
<attalias Sync="TRUE">Meridian</attalias>
<attrtype Sync="TRUE">String</attrtype>
<attwidth Sync="TRUE">15</attwidth>
<atprecis Sync="TRUE">0</atprecis>
<attscale Sync="TRUE">0</attscale>
</attr>
<attr>
<attrlabl>OBJECTID</attrlabl>
<attrdef>Internal feature number.</attrdef>
<attrdefs>ESRI</attrdefs>
<attrdomv>
<udom>Sequential unique whole numbers that are automatically generated.</udom>
</attrdomv>
<attalias Sync="TRUE">OBJECTID</attalias>
<attrtype Sync="TRUE">OID</attrtype>
<attwidth Sync="TRUE">4</attwidth>
<atprecis Sync="TRUE">10</atprecis>
<attscale Sync="TRUE">0</attscale>
</attr>
<attr>
<attrlabl Sync="TRUE">MTP_URL</attrlabl>
<attalias Sync="TRUE">MTP URL</attalias>
<attrtype Sync="TRUE">String</attrtype>
<attwidth Sync="TRUE">255</attwidth>
<atprecis Sync="TRUE">0</atprecis>
<attscale Sync="TRUE">0</attscale>
<attrdef>MTP URL</attrdef>
</attr>
<attr>
<attrlabl Sync="TRUE">GLO_Records</attrlabl>
<attalias Sync="TRUE">GLO Records</attalias>
<attrtype Sync="TRUE">String</attrtype>
<attwidth Sync="TRUE">255</attwidth>
<atprecis Sync="TRUE">0</atprecis>
<attscale Sync="TRUE">0</attscale>
<attrdef>GLO Records Link</attrdef>
</attr>
<attr>
<attrlabl>SHAPE</attrlabl>
<attrdef>Feature geometry.</attrdef>
<attrdefs>ESRI</attrdefs>
<attrdomv>
<udom>Coordinates defining the features.</udom>
</attrdomv>
<attalias Sync="TRUE">Shape</attalias>
<attrtype Sync="TRUE">Geometry</attrtype>
<attwidth Sync="TRUE">8</attwidth>
<atprecis Sync="TRUE">0</atprecis>
<attscale Sync="TRUE">0</attscale>
</attr>
<attr>
<attrlabl Sync="TRUE">Shape.STArea()</attrlabl>
<attalias Sync="TRUE">Shape.STArea()</attalias>
<attrtype Sync="TRUE">Double</attrtype>
<attwidth Sync="TRUE">0</attwidth>
<atprecis Sync="TRUE">0</atprecis>
<attscale Sync="TRUE">0</attscale>
<attrdef>Shape Area</attrdef>
</attr>
<attr>
<attrlabl Sync="TRUE">Shape.STLength()</attrlabl>
<attalias Sync="TRUE">Shape.STLength()</attalias>
<attrtype Sync="TRUE">Double</attrtype>
<attwidth Sync="TRUE">0</attwidth>
<atprecis Sync="TRUE">0</atprecis>
<attscale Sync="TRUE">0</attscale>
<attrdef>Shape Length</attrdef>
</attr>
</detailed>
<overview>
<eaover>Statewide protracted township grid based on BLM's official protraction diagrams.</eaover>
</overview>
</eainfo>
<mdContact>
<rpOrgName>U.S. Department of Interior, Bureau of Land Management (BLM), Alaska State Office</rpOrgName>
<rpPosName>State Data Administrator</rpPosName>
<rpCntInfo>
<cntAddress addressType="both">
<delPoint>222 West 7th Avenue, Stop 13</delPoint>
<city>Anchorage</city>
<adminArea>AK</adminArea>
<postCode>99513</postCode>
<country>US</country>
<eMailAdd>jlotz@blm.gov</eMailAdd>
</cntAddress>
</rpCntInfo>
<role>
<RoleCd value="007">
</RoleCd>
</role>
<displayName>Name: Steven Martin
Organization: U.S. Department of Interior, Bureau of Land Management (BLM), Alaska State Office
Position: State Data Administrator
Role: Point of Contact</displayName>
</mdContact>
<mdConst>
<Consts>
<useLimit>These data are provided by Bureau of Land Management (BLM) 'as is' and might contain errors or omissions. The User assumes the entire risk associated with its use of these data and bears all responsibility in determining whether these data are fit for the User's intended use. The information contained in these data is dynamic and may change over time. The data are not better than the sources from which they were derived, and both scale and accuracy may vary across the data set. These data might not have the accuracy, resolution, completeness, timeliness, or other characteristics appropriate for applications that potential users of the data may contemplate. The User is encouraged to carefully consider the content of the metadata file associated with these data. These data are neither legal documents nor land surveys, and must not be used as such. Official records may be referenced at most BLM offices. Please report any errors in the data to the BLM office from which it was obtained. The BLM should be cited as the data source in any products derived from these data. Any Users wishing to modify the data should describe the types of modifications they have performed. The User should not misrepresent the data, nor imply that changes made were approved or endorsed by BLM. This data may be updated by the BLM without notification.</useLimit>
</Consts>
</mdConst>
<mdConst>
<LegConsts>
<othConsts>None, these data are considered public domain.</othConsts>
</LegConsts>
</mdConst>
</metadata>
