<?xml version="1.0" encoding="UTF-8" standalone="no"?>
<metadata xml:lang="en">
<Esri>
<CreaDate>20240308</CreaDate>
<CreaTime>11561800</CreaTime>
<ArcGISFormat>1.0</ArcGISFormat>
<SyncOnce>FALSE</SyncOnce>
<DataProperties>
<lineage>
<Process Date="20240308" Time="115618" ToolSource="c:\program files\arcgis\pro\Resources\ArcToolbox\toolboxes\Data Management Tools.tbx\CreateMosaicDataset">CreateMosaicDataset \\ILMOCOP3GI138\CA_Public$\Service_Data\BLM_CA_MTP_Imagery.gdb BLM_CA_MTP_Base PROJCS["NAD_1983_California_Teale_Albers",GEOGCS["GCS_North_American_1983",DATUM["D_North_American_1983",SPHEROID["GRS_1980",6378137.0,298.257222101]],PRIMEM["Greenwich",0.0],UNIT["Degree",0.0174532925199433]],PROJECTION["Albers"],PARAMETER["False_Easting",0.0],PARAMETER["False_Northing",-4000000.0],PARAMETER["Central_Meridian",-120.0],PARAMETER["Standard_Parallel_1",34.0],PARAMETER["Standard_Parallel_2",40.5],PARAMETER["Latitude_Of_Origin",0.0],UNIT["Meter",1.0]] 1 "1 bit" None #</Process>
<Process Date="20240315" Time="134357" ToolSource="c:\program files\arcgis\pro\Resources\ArcToolbox\toolboxes\Data Management Tools.tbx\AddRastersToMosaicDataset">AddRastersToMosaicDataset \\ILMOCOP3GI138\CA_Public$\Service_Data\BLM_CA_MTP_Imagery.gdb\BLM_CA_MTP_Base "Raster Dataset" \\blm\dfs\loc\GBP\CA\CASO\raster_data\projects\GeoreferencedMTPs UPDATE_CELL_SIZES UPDATE_BOUNDARY UPDATE_OVERVIEWS # 0 1500 # # SUBFOLDERS "Exclude duplicates" BUILD_PYRAMIDS CALCULATE_STATISTICS NO_THUMBNAILS # NO_FORCE_SPATIAL_REFERENCE ESTIMATE_STATISTICS # NO_PIXEL_CACHE C:\Users\mtracy\AppData\Local\ESRI\rasterproxies\BLM_CA_MTP_Base</Process>
</lineage>
<itemProps>
<imsContentType export="False">002</imsContentType>
<itemName Sync="TRUE">BLM_CA_MTP_Base</itemName>
<itemLocation>
<linkage Sync="TRUE">file://\\ILMOCOP3GI138\CA_Public$\Service_Data\BLM_CA_MTP_Imagery.gdb</linkage>
<protocol Sync="TRUE">Local Area Network</protocol>
</itemLocation>
<nativeExtBox>
<westBL Sync="TRUE">-374327.900782</westBL>
<eastBL Sync="TRUE">541965.755820</eastBL>
<southBL Sync="TRUE">-604949.132851</southBL>
<northBL Sync="TRUE">450552.683374</northBL>
<exTypeCode Sync="TRUE">1</exTypeCode>
</nativeExtBox>
</itemProps>
<coordRef>
<type Sync="TRUE">Projected</type>
<geogcsn Sync="TRUE">GCS_North_American_1983</geogcsn>
<csUnits Sync="TRUE">Linear Unit: Meter (1.000000)</csUnits>
<projcsn Sync="TRUE">NAD_1983_California_Teale_Albers</projcsn>
<peXml Sync="TRUE">&lt;ProjectedCoordinateSystem xsi:type='typens:ProjectedCoordinateSystem' xmlns:xsi='http://www.w3.org/2001/XMLSchema-instance' xmlns:xs='http://www.w3.org/2001/XMLSchema' xmlns:typens='http://www.esri.com/schemas/ArcGIS/3.1.0'&gt;&lt;WKT&gt;PROJCS[&amp;quot;NAD_1983_California_Teale_Albers&amp;quot;,GEOGCS[&amp;quot;GCS_North_American_1983&amp;quot;,DATUM[&amp;quot;D_North_American_1983&amp;quot;,SPHEROID[&amp;quot;GRS_1980&amp;quot;,6378137.0,298.257222101]],PRIMEM[&amp;quot;Greenwich&amp;quot;,0.0],UNIT[&amp;quot;Degree&amp;quot;,0.0174532925199433]],PROJECTION[&amp;quot;Albers&amp;quot;],PARAMETER[&amp;quot;False_Easting&amp;quot;,0.0],PARAMETER[&amp;quot;False_Northing&amp;quot;,-4000000.0],PARAMETER[&amp;quot;Central_Meridian&amp;quot;,-120.0],PARAMETER[&amp;quot;Standard_Parallel_1&amp;quot;,34.0],PARAMETER[&amp;quot;Standard_Parallel_2&amp;quot;,40.5],PARAMETER[&amp;quot;Latitude_Of_Origin&amp;quot;,0.0],UNIT[&amp;quot;Meter&amp;quot;,1.0],AUTHORITY[&amp;quot;EPSG&amp;quot;,3310]]&lt;/WKT&gt;&lt;XOrigin&gt;-16909700&lt;/XOrigin&gt;&lt;YOrigin&gt;-8597000&lt;/YOrigin&gt;&lt;XYScale&gt;266332319.7555542&lt;/XYScale&gt;&lt;ZOrigin&gt;-100000&lt;/ZOrigin&gt;&lt;ZScale&gt;10000&lt;/ZScale&gt;&lt;MOrigin&gt;-100000&lt;/MOrigin&gt;&lt;MScale&gt;10000&lt;/MScale&gt;&lt;XYTolerance&gt;0.001&lt;/XYTolerance&gt;&lt;ZTolerance&gt;0.001&lt;/ZTolerance&gt;&lt;MTolerance&gt;0.001&lt;/MTolerance&gt;&lt;HighPrecision&gt;true&lt;/HighPrecision&gt;&lt;WKID&gt;3310&lt;/WKID&gt;&lt;LatestWKID&gt;3310&lt;/LatestWKID&gt;&lt;/ProjectedCoordinateSystem&gt;</peXml>
</coordRef>
<RasterProperties>
<General>
<PixelDepth Sync="TRUE">1</PixelDepth>
<HasColormap Sync="TRUE">FALSE</HasColormap>
<CompressionType Sync="TRUE">None</CompressionType>
<NumBands Sync="TRUE">1</NumBands>
<Format Sync="TRUE">AMD</Format>
<HasPyramids Sync="TRUE">TRUE</HasPyramids>
<SourceType Sync="TRUE">continuous</SourceType>
<PixelType Sync="TRUE">unsigned integer</PixelType>
<NoDataValue Sync="TRUE"/>
</General>
<Properties>
<MaxImageHeight Sync="TRUE">4100</MaxImageHeight>
<MaxImageWidth Sync="TRUE">15000</MaxImageWidth>
<MaxRecordCount Sync="TRUE">1000</MaxRecordCount>
<MaxDownloadImageCount Sync="TRUE">20</MaxDownloadImageCount>
<MaxDownloadSizeLimit Sync="TRUE">2048</MaxDownloadSizeLimit>
<MaxMosaicImageCount Sync="TRUE">20</MaxMosaicImageCount>
<DefaultCompressionQuality Sync="TRUE">75</DefaultCompressionQuality>
<DefaultCompressionTolerance Sync="TRUE">0.01</DefaultCompressionTolerance>
<BlendWidth Sync="TRUE">10</BlendWidth>
<ViewpointSpacingX Sync="TRUE">600</ViewpointSpacingX>
<ViewpointSpacingY Sync="TRUE">300</ViewpointSpacingY>
<AllowedItemMetadata Sync="TRUE">Basic</AllowedItemMetadata>
<DefaultResamplingMethod Sync="TRUE">0</DefaultResamplingMethod>
<AllowedMosaicMethods Sync="TRUE">NorthWest,Center,LockRaster,ByAttribute,Nadir,Viewpoint,Seamline,None</AllowedMosaicMethods>
<AllowedCompressions Sync="TRUE">None,JPEG,LZ77,LERC</AllowedCompressions>
<AllowedMensurationCapabilities Sync="TRUE">Basic</AllowedMensurationCapabilities>
<AvailableMensurationCapabilities Sync="TRUE">None,Basic,Base-Top Height,Top-Top Shadow Height,Base-Top Shadow Height,3D</AvailableMensurationCapabilities>
<ClipToBoundary Sync="TRUE">-1</ClipToBoundary>
<FootprintMayContainNoData Sync="TRUE">-1</FootprintMayContainNoData>
<CellSizeTolerance Sync="TRUE">0.8</CellSizeTolerance>
<MinimumPixelContribution Sync="TRUE">1</MinimumPixelContribution>
<AvailableMosaicMethods Sync="TRUE">NorthWest,Center,LockRaster,ByAttribute,Nadir,Viewpoint,Seamline,None</AvailableMosaicMethods>
<AvailableCompressionMethods Sync="TRUE">None,JPEG,LZ77,LERC</AvailableCompressionMethods>
<AvailableItemMetadataLevels Sync="TRUE">None,Basic,Full</AvailableItemMetadataLevels>
<BandDefinitionKeyword Sync="TRUE">NONE</BandDefinitionKeyword>
<_docversion_ Sync="TRUE">10</_docversion_>
<AllowedFields Sync="TRUE">Name,MinPS,MaxPS,LowPS,HighPS,Tag,GroupName,ProductName,CenterX,CenterY,ZOrder,Shape_Length,Shape_Area</AllowedFields>
<MaxCellSize Sync="TRUE">352343.568945035</MaxCellSize>
<LowCellSize Sync="TRUE">1.31268049356787E-04</LowCellSize>
<HighCellSize Sync="TRUE">9.66649023168819</HighCellSize>
<PixelCacheLocation Sync="TRUE">C:\Users\mtracy\AppData\Local\ESRI\rasterproxies\BLM_CA_MTP_Base</PixelCacheLocation>
<ClipToFootprint Sync="TRUE">0</ClipToFootprint>
<ApplyColorCorrection Sync="TRUE">0</ApplyColorCorrection>
<SortAscending Sync="TRUE">-1</SortAscending>
<MosaicOperator Sync="TRUE">1</MosaicOperator>
<UseTime Sync="TRUE">0</UseTime>
<DataType Sync="TRUE">Generic</DataType>
</Properties>
<Functions Sync="TRUE">
<Function Description="Performs on-the-fly mosaic on a raster catalog." Name="Mosaic Function"/>
</Functions>
</RasterProperties>
</DataProperties>
<scaleRange>
<minScale>20000000</minScale>
<maxScale>5000</maxScale>
</scaleRange>
<SyncDate>20240405</SyncDate>
<SyncTime>12375600</SyncTime>
<ModDate>20240405</ModDate>
<ModTime>12375600</ModTime>
</Esri>
<mdChar>
<CharSetCd value="004"/>
</mdChar>
<mdHrLv>
<ScopeCd value="005"/>
</mdHrLv>
<mdContact>
<editorSource>external</editorSource>
<editorDigest>4b66d38736cd492d23e8150e42828caf6a133dc0</editorDigest>
<rpIndName>Bureau of Land Management</rpIndName>
<rpOrgName>U.S. Department of the Interior, Bureau of Land Management (BLM)</rpOrgName>
<rpPosName>Publisher</rpPosName>
<rpCntInfo>
<cntAddress addressType="both">
<delPoint>2800 Cottage Way, W-1623</delPoint>
<city>Sacramento</city>
<adminArea>CA</adminArea>
<postCode>95825</postCode>
<eMailAdd>BLM_CA_Web_SO_GIS@blm.gov</eMailAdd>
<country>US</country>
</cntAddress>
<cntPhone>
<voiceNum>916-978-4400</voiceNum>
</cntPhone>
<cntOnlineRes>
<linkage>https://gbp-blm-egis.hub.arcgis.com/</linkage>
</cntOnlineRes>
</rpCntInfo>
<editorSave>True</editorSave>
<displayName>Name: Bureau of Land Management
Organization: U.S. Department of the Interior, Bureau of Land Management (BLM)
Position: Publisher
Role: Unknown</displayName>
</mdContact>
<mdDateSt Sync="TRUE">20240405</mdDateSt>
<distInfo>
<distributor>
<distorCont>
<editorSource>external</editorSource>
<editorDigest>4b66d38736cd492d23e8150e42828caf6a133dc0</editorDigest>
<rpIndName>Bureau of Land Management</rpIndName>
<rpOrgName>U.S. Department of the Interior, Bureau of Land Management (BLM)</rpOrgName>
<rpPosName>Publisher</rpPosName>
<rpCntInfo>
<cntAddress addressType="both">
<delPoint>2800 Cottage Way, W-1623</delPoint>
<city>Sacramento</city>
<adminArea>CA</adminArea>
<postCode>95825</postCode>
<eMailAdd>BLM_CA_Web_SO_GIS@blm.gov</eMailAdd>
<country>US</country>
</cntAddress>
<cntPhone>
<voiceNum>916-978-4400</voiceNum>
</cntPhone>
<cntOnlineRes>
<linkage>https://gbp-blm-egis.hub.arcgis.com/</linkage>
</cntOnlineRes>
</rpCntInfo>
<editorSave>True</editorSave>
<displayName>Name: Bureau of Land Management
Organization: U.S. Department of the Interior, Bureau of Land Management (BLM)
Position: Publisher
Role: Unknown</displayName>
</distorCont>
</distributor>
<distTranOps>
<onLineSrc>
<linkage>https://gbp-blm-egis.hub.arcgis.com/</linkage>
</onLineSrc>
</distTranOps>
</distInfo>
<dataIdInfo>
<placeKeys>
<thesaName>
<resTitle>BLM-STATE</resTitle>
</thesaName>
<keyword>California</keyword>
</placeKeys>
<themeKeys>
<thesaName>
<resTitle>BLM-THEME</resTitle>
</thesaName>
<keyword>Authorization</keyword>
<keyword>Management</keyword>
<keyword>Withdrawal</keyword>
</themeKeys>
<placeKeys>
<thesaName>
<resTitle>NONE</resTitle>
</thesaName>
<keyword>United States</keyword>
<keyword>Western States</keyword>
</placeKeys>
<themeKeys>
<thesaName>
<resTitle>NONE</resTitle>
</thesaName>
<keyword>Cadastral</keyword>
<keyword>General Land Office</keyword>
<keyword>Master Title Plats</keyword>
<keyword>MTP</keyword>
<keyword>Planning</keyword>
</themeKeys>
<idPurp>The BLM General Land Office Records website provides online access to federal land conveyance records for the Public Land States, which are states that were created out of the public domain. The website offers access to images of more than five million federal land title records issued since 1820. The site also has images related to survey plats and field notes dating back to 1810. The GLO Records also includes Master Title Plats (MTP), a mapping of current land status for a specified township. Other plats can be included in the MTP plat group. For example, the oil and gas and the leasable minerals plats add a graphic depiction of the current mineral lease status to the basic MTP depiction of land status.
Note that while the collection is extensive, this site does not contain every federal title record issued. For additional records, contact your state or local office.</idPurp>
<idAbs>Federal Land Patents offer researchers a source of information on the initial transfer of land titles from the Federal government to individuals. In addition to verifying title transfer, this information will allow the researcher to associate an individual (Patentee, Assignee, Warrantee, Widow, or Heir) with a specific location (Legal Land Description) and time (Issue Date). We have a variety of Land Patents on our site, including Cash Entry, Homestead and Military Warrant patents. Survey plats are part of the official record of a cadastral survey. Surveying is the art and science of measuring the land to locate the limits of an owner's interest thereon. A cadastral survey is a survey which creates, marks, defines, retraces or re-establishes the boundaries and subdivisions of Federal Lands of the United States. The survey plat is the graphic drawing of the boundaries involved with a particular survey project, and contains the official acreage to be used in the legal description.</idAbs>
<idCredit>U.S. Department of the Interior, Bureau of Land Management (BLM), California State Office</idCredit>
<idCitation>
<citRespParty>
<rpIndName>Bureau of Land Management</rpIndName>
<role>
<RoleCd value="010"/>
</role>
<rpOrgName>U.S. Department of the Interior, Bureau of Land Management (BLM)</rpOrgName>
<rpPosName>Publisher</rpPosName>
<rpCntInfo>
<cntAddress addressType="both">
<delPoint>2800 Cottage Way, W-1623</delPoint>
<city>Sacramento</city>
<adminArea>CA</adminArea>
<postCode>95825</postCode>
<eMailAdd>BLM_CA_Web_SO_GIS@blm.gov</eMailAdd>
<country>US</country>
</cntAddress>
<cntPhone>
<voiceNum>916-978-4400</voiceNum>
</cntPhone>
<cntOnlineRes>
<linkage>https://gbp-blm-egis.hub.arcgis.com/</linkage>
</cntOnlineRes>
</rpCntInfo>
</citRespParty>
<citRespParty>
<rpIndName>U.S. Department of the Interior, Bureau of Land Management (BLM)</rpIndName>
<role>
<RoleCd value="006"/>
</role>
</citRespParty>
<resTitle>BLM_CA_MTP_Base</resTitle>
<date>
<createDate>Unknown</createDate>
<pubDate>20240301</pubDate>
<reviseDate>Unknown</reviseDate>
</date>
<presForm>
<PresFormCd Sync="TRUE" value="005"/>
</presForm>
</idCitation>
<searchKeys>
<keyword>Authorization</keyword>
<keyword>Cadastral</keyword>
<keyword>California</keyword>
<keyword>General Land Office</keyword>
<keyword>Management</keyword>
<keyword>Master Title Plats</keyword>
<keyword>MTP</keyword>
<keyword>Planning</keyword>
<keyword>planningCadastre</keyword>
<keyword>United States</keyword>
<keyword>Western States</keyword>
<keyword>Withdrawal</keyword>
</searchKeys>
<dataExt>
<geoEle>
<GeoBndBox esriExtentType="search">
<westBL>-124.3322242</westBL>
<eastBL>-113.4289075</eastBL>
<northBL>42.0472614</northBL>
<southBL>32.3425381</southBL>
<exTypeCode>1</exTypeCode>
</GeoBndBox>
</geoEle>
<tempEle>
<TempExtent>
<exTemp>
<TM_Period>
<tmBegin>Unknown</tmBegin>
<tmEnd>Unknown</tmEnd>
</TM_Period>
</exTemp>
</TempExtent>
</tempEle>
</dataExt>
<idStatus>
<ProgCd value="004"/>
</idStatus>
<dataChar>
<CharSetCd value="004"/>
</dataChar>
<idPoC>
<editorSource>external</editorSource>
<editorDigest>4b66d38736cd492d23e8150e42828caf6a133dc0</editorDigest>
<rpIndName>Bureau of Land Management</rpIndName>
<rpOrgName>U.S. Department of the Interior, Bureau of Land Management (BLM)</rpOrgName>
<rpPosName>Publisher</rpPosName>
<rpCntInfo>
<cntAddress addressType="both">
<delPoint>2800 Cottage Way, W-1623</delPoint>
<city>Sacramento</city>
<adminArea>CA</adminArea>
<postCode>95825</postCode>
<eMailAdd>BLM_CA_Web_SO_GIS@blm.gov</eMailAdd>
<country>US</country>
</cntAddress>
<cntPhone>
<voiceNum>916-978-4400</voiceNum>
</cntPhone>
<cntOnlineRes>
<linkage>https://gbp-blm-egis.hub.arcgis.com/</linkage>
</cntOnlineRes>
</rpCntInfo>
<editorSave>True</editorSave>
<displayName>Name: Bureau of Land Management
Organization: U.S. Department of the Interior, Bureau of Land Management (BLM)
Position: Publisher
Role: Unknown</displayName>
<role>
<RoleCd value="007"/>
</role>
</idPoC>
<resMaint>
<maintFreq>
<MaintFreqCd value="009"/>
</maintFreq>
</resMaint>
<resConst>
<Consts>
<useLimit>These data are provided by Bureau of Land Management (BLM) 'as is' and might contain errors or omissions. The User assumes the entire risk associated with its use of these data and bears all responsibility in determining whether these data are fit for the User's intended use. The information contained in these data is dynamic and may change over time. The data are not better than the sources from which they were derived, and both scale and accuracy may vary across the data set. These data might not have the accuracy, resolution, completeness, timeliness, or other characteristics appropriate for applications that potential users of the data may contemplate. The User is encouraged to carefully consider the content of the metadata file associated with these data. These data are neither legal documents nor land surveys, and must not be used as such. Official records may be referenced at most BLM offices. Please report any errors in the data to the BLM office from which it was obtained. The BLM should be cited as the data source in any products derived from these data. Any Users wishing to modify the data should describe the types of modifications they have performed. The User should not misrepresent the data, nor imply that changes made were approved or endorsed by BLM. This data may be updated by the BLM without notification.</useLimit>
</Consts>
</resConst>
<resConst>
<LegConsts>
<useLimit>The BLM assumes no responsibility for errors or omissions. No warranty is made by the BLM as to the accuracy, reliability, or completeness of these data for individual use or aggregate use with other data; nor shall the act of distribution to contractors, partners, or beyond, constitute any such warranty for individual or aggregate data use with other data. Although these data have been processed successfully on computers of BLM, no warranty, expressed or implied, is made by BLM regarding the use of these data on any other system, or for general or scientific purposes, nor does the fact of distribution constitute or imply any such warranty. In no event shall the BLM have any liability whatsoever for payment of any consequential, incidental, indirect, special, or tort damages of any kind, including, but not limited to, any loss of profits arising out of the use or reliance on the geographic data or arising out of the delivery, installation, operation, or support by BLM.</useLimit>
<othConsts>None, these data are considered public domain.</othConsts>
</LegConsts>
</resConst>
<tpCat>
<TopicCatCd value="015"/>
</tpCat>
<envirDesc Sync="TRUE">Microsoft Windows 10 Version 10.0 (Build 19045) ; Esri ArcGIS 13.1.3.41833</envirDesc>
<dataLang>
<languageCode Sync="TRUE" value="eng"/>
<countryCode Sync="TRUE" value="USA"/>
</dataLang>
<spatRpType>
<SpatRepTypCd Sync="TRUE" value="002"/>
</spatRpType>
</dataIdInfo>
<mdMaint>
<maintNote>Last metadata review date: 20240301</maintNote>
</mdMaint>
<mdConst>
<Consts>
<useLimit>These data are provided by Bureau of Land Management (BLM) 'as is' and might contain errors or omissions. The User assumes the entire risk associated with its use of these data and bears all responsibility in determining whether these data are fit for the User's intended use. The information contained in these data is dynamic and may change over time. The data are not better than the sources from which they were derived, and both scale and accuracy may vary across the data set. These data might not have the accuracy, resolution, completeness, timeliness, or other characteristics appropriate for applications that potential users of the data may contemplate. The User is encouraged to carefully consider the content of the metadata file associated with these data. These data are neither legal documents nor land surveys, and must not be used as such. Official records may be referenced at most BLM offices. Please report any errors in the data to the BLM office from which it was obtained. The BLM should be cited as the data source in any products derived from these data. Any Users wishing to modify the data should describe the types of modifications they have performed. The User should not misrepresent the data, nor imply that changes made were approved or endorsed by BLM. This data may be updated by the BLM without notification.</useLimit>
</Consts>
</mdConst>
<mdConst>
<LegConsts>
<othConsts>None, these data are considered public domain.</othConsts>
</LegConsts>
</mdConst>
<dqInfo>
<report dimension="horizontal" type="DQAbsExtPosAcc">
<measDesc>No information available</measDesc>
</report>
<report type="DQConcConsis">
<measDesc>No information available</measDesc>
</report>
<report type="DQCompOm">
<measDesc>No information available</measDesc>
</report>
<report type="DQQuanAttAcc">
<measDesc>No information available</measDesc>
</report>
<dataLineage>
<prcStep>
<stepDesc>Publishing</stepDesc>
<stepDateTm>20240301</stepDateTm>
<stepProc>
<editorSource>external</editorSource>
<editorDigest>4b66d38736cd492d23e8150e42828caf6a133dc0</editorDigest>
<rpIndName>Bureau of Land Management</rpIndName>
<rpOrgName>U.S. Department of the Interior, Bureau of Land Management (BLM)</rpOrgName>
<rpPosName>Publisher</rpPosName>
<rpCntInfo>
<cntAddress addressType="both">
<delPoint>2800 Cottage Way, W-1623</delPoint>
<city>Sacramento</city>
<adminArea>CA</adminArea>
<postCode>95825</postCode>
<eMailAdd>BLM_CA_Web_SO_GIS@blm.gov</eMailAdd>
<country>US</country>
</cntAddress>
<cntPhone>
<voiceNum>916-978-4400</voiceNum>
</cntPhone>
<cntOnlineRes>
<linkage>https://gbp-blm-egis.hub.arcgis.com/</linkage>
</cntOnlineRes>
</rpCntInfo>
<editorSave>True</editorSave>
<displayName>Name: Bureau of Land Management
Organization: U.S. Department of the Interior, Bureau of Land Management (BLM)
Position: Publisher
Role: Unknown</displayName>
<role>
<RoleCd value="009"/>
</role>
</stepProc>
</prcStep>
</dataLineage>
</dqInfo>
<eainfo>
<overview>
<eaover>Master Title Plat (MTP) Base imagery mosaic for the state of California</eaover>
</overview>
<detailed>
<enttyp>
<enttypl>BLM Ca Master Title Plats</enttypl>
<enttypd>BLM CA Master Title Plats</enttypd>
</enttyp>
</detailed>
</eainfo>
<mdLang>
<languageCode Sync="TRUE" value="eng"/>
<countryCode Sync="TRUE" value="USA"/>
</mdLang>
<refSysInfo>
<RefSystem>
<refSysID>
<identCode Sync="TRUE" code="3310"/>
<idCodeSpace Sync="TRUE">EPSG</idCodeSpace>
<idVersion Sync="TRUE">6.8(9.2.0)</idVersion>
</refSysID>
</RefSystem>
</refSysInfo>
<spatRepInfo>
<Georect>
<cellGeo>
<CellGeoCd Sync="TRUE" value="002"/>
</cellGeo>
<numDims Sync="TRUE">2</numDims>
<tranParaAv Sync="TRUE">1</tranParaAv>
<chkPtAv Sync="TRUE">0</chkPtAv>
<cornerPts>
<pos Sync="TRUE">-374327.900782 -604949.132851</pos>
</cornerPts>
<cornerPts>
<pos Sync="TRUE">-374327.900782 450552.683374</pos>
</cornerPts>
<cornerPts>
<pos Sync="TRUE">541965.755820 450552.683374</pos>
</cornerPts>
<cornerPts>
<pos Sync="TRUE">541965.755820 -604949.132851</pos>
</cornerPts>
<centerPt>
<pos Sync="TRUE">83818.927519 -77198.224738</pos>
</centerPt>
<axisDimension type="002">
<dimSize Sync="TRUE">1745081269</dimSize>
<dimResol>
<value Sync="TRUE" uom="m">0.000525</value>
</dimResol>
</axisDimension>
<axisDimension type="001">
<dimSize Sync="TRUE">2010203209</dimSize>
<dimResol>
<value Sync="TRUE" uom="m">0.000525</value>
</dimResol>
</axisDimension>
<ptInPixel>
<PixOrientCd Sync="TRUE" value="001"/>
</ptInPixel>
</Georect>
</spatRepInfo>
<contInfo>
<ImgDesc>
<contentTyp>
<ContentTypCd Sync="TRUE" value="001"/>
</contentTyp>
<covDim>
<Band>
<dimDescrp Sync="TRUE">Band_1</dimDescrp>
<maxVal Sync="TRUE">1.000000</maxVal>
<minVal Sync="TRUE">0.000000</minVal>
<bitsPerVal Sync="TRUE">1</bitsPerVal>
<valUnit>
<UOM type="length"/>
</valUnit>
</Band>
</covDim>
</ImgDesc>
</contInfo>
</metadata>
