<?xml version="1.0" encoding="UTF-8" standalone="no"?>
<metadata xml:lang="en">
<Esri>
<CreaDate>20261023</CreaDate>
<CreaTime>09544300</CreaTime>
<ArcGISFormat>1.0</ArcGISFormat>
<SyncOnce>FALSE</SyncOnce>
<DataProperties>
<itemProps>
<itemName Sync="TRUE">BLM_CO_Coal_Use_Plats</itemName>
<nativeExtBox>
<westBL Sync="TRUE">149852.429785</westBL>
<eastBL Sync="TRUE">544706.945455</eastBL>
<southBL Sync="TRUE">4106401.367141</southBL>
<northBL Sync="TRUE">4510479.322487</northBL>
<exTypeCode Sync="TRUE">1</exTypeCode>
</nativeExtBox>
</itemProps>
<coordRef>
<type Sync="TRUE">Projected</type>
<geogcsn Sync="TRUE">GCS_North_American_1983</geogcsn>
<csUnits Sync="TRUE">Linear Unit: Meter (1.000000)</csUnits>
<projcsn Sync="TRUE">NAD_1983_UTM_Zone_13N</projcsn>
<peXml Sync="TRUE">&lt;ProjectedCoordinateSystem xsi:type='typens:ProjectedCoordinateSystem' xmlns:xsi='http://www.w3.org/2001/XMLSchema-instance' xmlns:xs='http://www.w3.org/2001/XMLSchema' xmlns:typens='http://www.esri.com/schemas/ArcGIS/3.5.0'&gt;&lt;WKT&gt;PROJCS[&amp;quot;NAD_1983_UTM_Zone_13N&amp;quot;,GEOGCS[&amp;quot;GCS_North_American_1983&amp;quot;,DATUM[&amp;quot;D_North_American_1983&amp;quot;,SPHEROID[&amp;quot;GRS_1980&amp;quot;,6378137.0,298.257222101]],PRIMEM[&amp;quot;Greenwich&amp;quot;,0.0],UNIT[&amp;quot;Degree&amp;quot;,0.0174532925199433]],PROJECTION[&amp;quot;Transverse_Mercator&amp;quot;],PARAMETER[&amp;quot;False_Easting&amp;quot;,500000.0],PARAMETER[&amp;quot;False_Northing&amp;quot;,0.0],PARAMETER[&amp;quot;Central_Meridian&amp;quot;,-105.0],PARAMETER[&amp;quot;Scale_Factor&amp;quot;,0.9996],PARAMETER[&amp;quot;Latitude_Of_Origin&amp;quot;,0.0],UNIT[&amp;quot;Meter&amp;quot;,1.0],AUTHORITY[&amp;quot;EPSG&amp;quot;,26913]]&lt;/WKT&gt;&lt;XOrigin&gt;-5120900&lt;/XOrigin&gt;&lt;YOrigin&gt;-9998100&lt;/YOrigin&gt;&lt;XYScale&gt;450445547.3910538&lt;/XYScale&gt;&lt;ZOrigin&gt;-100000&lt;/ZOrigin&gt;&lt;ZScale&gt;10000&lt;/ZScale&gt;&lt;MOrigin&gt;-100000&lt;/MOrigin&gt;&lt;MScale&gt;10000&lt;/MScale&gt;&lt;XYTolerance&gt;0.001&lt;/XYTolerance&gt;&lt;ZTolerance&gt;0.001&lt;/ZTolerance&gt;&lt;MTolerance&gt;0.001&lt;/MTolerance&gt;&lt;HighPrecision&gt;true&lt;/HighPrecision&gt;&lt;WKID&gt;26913&lt;/WKID&gt;&lt;LatestWKID&gt;26913&lt;/LatestWKID&gt;&lt;/ProjectedCoordinateSystem&gt;</peXml>
</coordRef>
<RasterProperties>
<General>
<PixelDepth Sync="TRUE">8</PixelDepth>
<HasColormap Sync="TRUE">FALSE</HasColormap>
<CompressionType Sync="TRUE">None</CompressionType>
<NumBands Sync="TRUE">1</NumBands>
<Format Sync="TRUE">AMD</Format>
<HasPyramids Sync="TRUE">TRUE</HasPyramids>
<SourceType Sync="TRUE">continuous</SourceType>
<PixelType Sync="TRUE">unsigned integer</PixelType>
<NoDataValue Sync="TRUE">
</NoDataValue>
</General>
<Properties>
<MaxImageHeight Sync="TRUE">4100</MaxImageHeight>
<MaxImageWidth Sync="TRUE">15000</MaxImageWidth>
<MaxRecordCount Sync="TRUE">1000</MaxRecordCount>
<MaxDownloadImageCount Sync="TRUE">20</MaxDownloadImageCount>
<MaxDownloadSizeLimit Sync="TRUE">2048</MaxDownloadSizeLimit>
<MaxMosaicImageCount Sync="TRUE">20</MaxMosaicImageCount>
<DefaultCompressionQuality Sync="TRUE">75</DefaultCompressionQuality>
<DefaultCompressionTolerance Sync="TRUE">0.01</DefaultCompressionTolerance>
<BlendWidth Sync="TRUE">10</BlendWidth>
<ViewpointSpacingX Sync="TRUE">600</ViewpointSpacingX>
<ViewpointSpacingY Sync="TRUE">300</ViewpointSpacingY>
<AllowedItemMetadata Sync="TRUE">Basic</AllowedItemMetadata>
<DefaultResamplingMethod Sync="TRUE">1</DefaultResamplingMethod>
<AllowedMosaicMethods Sync="TRUE">NorthWest,Center,LockRaster,ByAttribute,Nadir,Viewpoint,Seamline,None</AllowedMosaicMethods>
<AllowedCompressions Sync="TRUE">None,JPEG,LZ77,LERC</AllowedCompressions>
<AllowedMensurationCapabilities Sync="TRUE">Basic</AllowedMensurationCapabilities>
<AvailableMensurationCapabilities Sync="TRUE">None,Basic,Base-Top Height,Top-Top Shadow Height,Base-Top Shadow Height,3D</AvailableMensurationCapabilities>
<ClipToBoundary Sync="TRUE">-1</ClipToBoundary>
<FootprintMayContainNoData Sync="TRUE">-1</FootprintMayContainNoData>
<CellSizeTolerance Sync="TRUE">0.8</CellSizeTolerance>
<MinimumPixelContribution Sync="TRUE">1</MinimumPixelContribution>
<AvailableMosaicMethods Sync="TRUE">NorthWest,Center,LockRaster,ByAttribute,Nadir,Viewpoint,Seamline,None</AvailableMosaicMethods>
<AvailableCompressionMethods Sync="TRUE">None,JPEG,LZ77,LERC</AvailableCompressionMethods>
<AvailableItemMetadataLevels Sync="TRUE">None,Basic,Full</AvailableItemMetadataLevels>
<BandDefinitionKeyword Sync="TRUE">NONE</BandDefinitionKeyword>
<_docversion_ Sync="TRUE">10</_docversion_>
<AllowedFields Sync="TRUE">Name,MinPS,MaxPS,LowPS,HighPS,Tag,GroupName,ProductName,CenterX,CenterY,ZOrder,Shape_Length,Shape_Area</AllowedFields>
<ClipToFootprint Sync="TRUE">-1</ClipToFootprint>
<DataType Sync="TRUE">Generic</DataType>
</Properties>
<Functions Sync="TRUE">
<Function Description="Performs on-the-fly mosaic on a raster catalog." Name="Mosaic Function">
</Function>
</Functions>
</RasterProperties>
</DataProperties>
<scaleRange>
<minScale>150000000</minScale>
<maxScale>5000</maxScale>
</scaleRange>
<SyncDate>20261023</SyncDate>
<SyncTime>10050900</SyncTime>
<ModDate>20261023</ModDate>
<ModTime>10091900</ModTime>
</Esri>
<mdFileID>c1b1b87cf410487fbac9515099d93216</mdFileID>
<mdLang>
<languageCode Sync="TRUE" value="eng">
</languageCode>
<countryCode Sync="TRUE" value="USA">
</countryCode>
</mdLang>
<mdChar>
<CharSetCd value="004">
</CharSetCd>
</mdChar>
<mdHrLv>
<ScopeCd value="005">
</ScopeCd>
</mdHrLv>
<mdContact>
<role>
<RoleCd value="006">
</RoleCd>
</role>
<rpIndName>GIS Manager</rpIndName>
<rpOrgName>BLM Colorado State Office</rpOrgName>
<rpPosName>GIS Manager</rpPosName>
<rpCntInfo>
<cntAddress addressType="both">
<delPoint>Denver Federal Center, Building 40</delPoint>
<city>Lakewood</city>
<adminArea>CO</adminArea>
<postCode>80225</postCode>
<eMailAdd>blm_co_gis_info@blm.gov</eMailAdd>
<country>US</country>
</cntAddress>
<cntPhone>
<voiceNum>303-296-3600</voiceNum>
</cntPhone>
</rpCntInfo>
<displayName>Name: GIS Manager
Organization: BLM Colorado State Office
Position: GIS Manager
Role: Originator</displayName>
</mdContact>
<mdDateSt Sync="TRUE">20261023</mdDateSt>
<distInfo>
<distTranOps>
<onLineSrc>
<linkage>https://gbp-blm-egis.hub.arcgis.com/pages/colorado</linkage>
</onLineSrc>
</distTranOps>
<distributor>
<distorCont>
<rpIndName>GIS Manager</rpIndName>
<rpOrgName>BLM Colorado State Office</rpOrgName>
<rpPosName>GIS Manager</rpPosName>
<role>
<RoleCd value="007">
</RoleCd>
</role>
<rpCntInfo>
<cntAddress addressType="both">
<delPoint>Denver Federal Center, Building 40</delPoint>
<city>Lakewood</city>
<adminArea>CO</adminArea>
<postCode>80225</postCode>
<eMailAdd>blm_co_gis_info@blm.gov</eMailAdd>
<country>US</country>
</cntAddress>
<cntPhone>
<voiceNum>303-296-3600</voiceNum>
</cntPhone>
</rpCntInfo>
<editorSave>False</editorSave>
<displayName>Name: GIS Manager
Organization: BLM Colorado State Office
Position: GIS Manager
Role: Point of Contact</displayName>
</distorCont>
</distributor>
</distInfo>
<dataIdInfo>
<placeKeys>
<thesaName>
<resTitle>BLM-STATE</resTitle>
</thesaName>
<keyword>Colorado</keyword>
</placeKeys>
<themeKeys>
<thesaName>
<resTitle>BLM-THEME</resTitle>
</thesaName>
<keyword>Geospatial</keyword>
<keyword>Management</keyword>
</themeKeys>
<themeKeys>
<thesaName>
<resTitle>NONE</resTitle>
</thesaName>
<keyword>Cadastral</keyword>
<keyword>Coal</keyword>
<keyword>Mosaic dataset</keyword>
<keyword>Plats</keyword>
</themeKeys>
<idAbs>A Master Title Plat (MTP) is a graphic illustration of land and mineral status within a township. The base of the MTP is based on the most recent survey information. MTPs are continually updated as status or survey information changes. If there is a lot of detail within a small area, a supplemental plat is created (enlarging the detail for easier drafting and reading). A Use Plat is created for certain uses, such as oil and gas leasing, coal leasing, and other minerals. Additional plats will be posted as they become available.</idAbs>
<idCitation>
<citRespParty>
<rpIndName>Bureau of Land Management</rpIndName>
<role>
<RoleCd value="010">
</RoleCd>
</role>
</citRespParty>
<citRespParty>
<rpIndName>U.S. Department of the Interior, Bureau of Land Management (BLM)</rpIndName>
<role>
<RoleCd value="006">
</RoleCd>
</role>
</citRespParty>
<resTitle>BLM_CO_Coal_Use_Plats</resTitle>
<citRespParty>
<role>
<RoleCd value="006">
</RoleCd>
</role>
<rpIndName>GIS Manager</rpIndName>
<rpOrgName>BLM Colorado State Office</rpOrgName>
<rpPosName>GIS Manager</rpPosName>
<rpCntInfo>
<cntAddress addressType="both">
<delPoint>Denver Federal Center, Building 40</delPoint>
<city>Lakewood</city>
<adminArea>CO</adminArea>
<postCode>80225</postCode>
<eMailAdd>blm_co_gis_info@blm.gov</eMailAdd>
<country>US</country>
</cntAddress>
<cntPhone>
<voiceNum>303-296-3600</voiceNum>
</cntPhone>
</rpCntInfo>
</citRespParty>
<presForm>
<PresFormCd Sync="TRUE" value="005">
</PresFormCd>
</presForm>
<date>
<pubDate>20260911</pubDate>
</date>
</idCitation>
<dataExt>
<geoEle>
<GeoBndBox>
<westBL>-109.1423</westBL>
<eastBL>-104.4705</eastBL>
<northBL>40.7453</northBL>
<southBL>37.0376</southBL>
</GeoBndBox>
</geoEle>
<tempEle>
<TempExtent>
<exTemp>
<TM_Instant>
<tmPosition>20230614</tmPosition>
</TM_Instant>
</exTemp>
</TempExtent>
</tempEle>
</dataExt>
<searchKeys>
<keyword>boundaries</keyword>
<keyword>Cadastral</keyword>
<keyword>Coal</keyword>
<keyword>Colorado</keyword>
<keyword>Geospatial</keyword>
<keyword>Management</keyword>
<keyword>Mosaic dataset</keyword>
<keyword>planningCadastre</keyword>
<keyword>Plats</keyword>
</searchKeys>
<idPurp>This mosaic dataset contains images of Coal Use Plats that were created for townships in Colorado.</idPurp>
<idCredit>BLM Colorado State Office</idCredit>
<resConst>
<Consts>
<useLimit>These data are provided by Bureau of Land Management (BLM) 'as is' and might contain errors or omissions. The User assumes the entire risk associated with its use of these data and bears all responsibility in determining whether these data are fit for the User's intended use. The information contained in these data is dynamic and may change over time. The data are not better than the sources from which they were derived, and both scale and accuracy may vary across the data set. These data might not have the accuracy, resolution, completeness, timeliness, or other characteristics appropriate for applications that potential users of the data may contemplate. The User is encouraged to carefully consider the content of the metadata file associated with these data. These data are neither legal documents nor land surveys, and must not be used as such. Official records may be referenced at most BLM offices. Please report any errors in the data to the BLM office from which it was obtained. The BLM should be cited as the data source in any products derived from these data. Any Users wishing to modify the data should describe the types of modifications they have performed. The User should not misrepresent the data, nor imply that changes made were approved or endorsed by BLM. This data may be updated by the BLM without notification.</useLimit>
</Consts>
</resConst>
<dataChar>
<CharSetCd value="004">
</CharSetCd>
</dataChar>
<envirDesc Sync="FALSE">Esri ArcGIS 13.5.8.57366</envirDesc>
<dataLang>
<languageCode Sync="TRUE" value="eng">
</languageCode>
<countryCode Sync="TRUE" value="USA">
</countryCode>
</dataLang>
<spatRpType>
<SpatRepTypCd Sync="FALSE" value="004">
</SpatRepTypCd>
</spatRpType>
<dataExt>
<geoEle>
<GeoBndBox esriExtentType="search">
<exTypeCode Sync="TRUE">1</exTypeCode>
<westBL Sync="TRUE">-109.142303</westBL>
<eastBL Sync="TRUE">-104.470461</eastBL>
<northBL Sync="TRUE">40.745262</northBL>
<southBL Sync="TRUE">37.038557</southBL>
</GeoBndBox>
</geoEle>
</dataExt>
<idStatus>
<ProgCd value="007">
</ProgCd>
</idStatus>
<idPoC>
<rpIndName>GIS Manager</rpIndName>
<rpOrgName>BLM Colorado State Office</rpOrgName>
<rpPosName>GIS Manager</rpPosName>
<role>
<RoleCd value="007">
</RoleCd>
</role>
<rpCntInfo>
<cntAddress addressType="both">
<delPoint>Denver Federal Center, Building 40</delPoint>
<city>Lakewood</city>
<adminArea>CO</adminArea>
<postCode>80225</postCode>
<eMailAdd>blm_co_gis_info@blm.gov</eMailAdd>
<country>US</country>
</cntAddress>
<cntPhone>
<voiceNum>303-296-3600</voiceNum>
</cntPhone>
</rpCntInfo>
</idPoC>
<resMaint>
<maintFreq>
<MaintFreqCd value="006">
</MaintFreqCd>
</maintFreq>
</resMaint>
<resConst>
<LegConsts>
<useLimit>The BLM assumes no responsibility for errors or omissions. No warranty is made by the BLM as to the accuracy, reliability, or completeness of these data for individual use or aggregate use with other data; nor shall the act of distribution to contractors, partners, or beyond, constitute any such warranty for individual or aggregate data use with other data. Although these data have been processed successfully on computers of BLM, no warranty, expressed or implied, is made by BLM regarding the use of these data on any other system, or for general or scientific purposes, nor does the fact of distribution constitute or imply any such warranty. In no event shall the BLM have any liability whatsoever for payment of any consequential, incidental, indirect, special, or tort damages of any kind, including, but not limited to, any loss of profits arising out of the use or reliance on the geographic data or arising out of the delivery, installation, operation, or support by BLM.</useLimit>
<othConsts>None, these data are considered public domain.</othConsts>
</LegConsts>
</resConst>
<tpCat>
<TopicCatCd value="003">
</TopicCatCd>
</tpCat>
<tpCat>
<TopicCatCd value="015">
</TopicCatCd>
</tpCat>
</dataIdInfo>
<mdMaint>
<maintNote>Last metadata review date: 20260812</maintNote>
<maintFreq>
<MaintFreqCd value="006">
</MaintFreqCd>
</maintFreq>
</mdMaint>
<mdConst>
<Consts>
<useLimit>These data are provided by Bureau of Land Management (BLM) 'as is' and might contain errors or omissions. The User assumes the entire risk associated with its use of these data and bears all responsibility in determining whether these data are fit for the User's intended use. The information contained in these data is dynamic and may change over time. The data are not better than the sources from which they were derived, and both scale and accuracy may vary across the data set. These data might not have the accuracy, resolution, completeness, timeliness, or other characteristics appropriate for applications that potential users of the data may contemplate. The User is encouraged to carefully consider the content of the metadata file associated with these data. These data are neither legal documents nor land surveys, and must not be used as such. Official records may be referenced at most BLM offices. Please report any errors in the data to the BLM office from which it was obtained. The BLM should be cited as the data source in any products derived from these data. Any Users wishing to modify the data should describe the types of modifications they have performed. The User should not misrepresent the data, nor imply that changes made were approved or endorsed by BLM. This data may be updated by the BLM without notification.</useLimit>
</Consts>
</mdConst>
<mdConst>
<LegConsts>
<othConsts>None, these data are considered public domain.</othConsts>
</LegConsts>
</mdConst>
<dqInfo>
<report dimension="horizontal" type="DQAbsExtPosAcc">
<measDesc>Please contact the specific office Point of Contact for additional information on the provenance, history, logical consistency, accuracy and quality of their data.</measDesc>
</report>
<report type="DQConcConsis">
<measDesc>Please contact the specific office Point of Contact for additional information on the provenance, history, logical consistency, accuracy and quality of their data.</measDesc>
</report>
<report type="DQCompOm">
<measDesc>Please contact the specific office Point of Contact for additional information on the provenance, history, logical consistency, accuracy and quality of their data.</measDesc>
</report>
<report type="DQQuanAttAcc">
<measDesc>Please contact the specific office Point of Contact for additional information on the provenance, history, logical consistency, accuracy and quality of their data.</measDesc>
</report>
<dataLineage>
<prcStep>
<stepDesc>Data replicated to PCP</stepDesc>
<stepDateTm>20260911</stepDateTm>
<stepProc>
<rpIndName>GIS Manager</rpIndName>
<rpOrgName>BLM Colorado State Office</rpOrgName>
<rpPosName>GIS Manager</rpPosName>
<role>
<RoleCd value="007">
</RoleCd>
</role>
<rpCntInfo>
<cntAddress addressType="both">
<delPoint>Denver Federal Center, Building 40</delPoint>
<city>Lakewood</city>
<adminArea>CO</adminArea>
<postCode>80225</postCode>
<eMailAdd>blm_co_gis_info@blm.gov</eMailAdd>
<country>US</country>
</cntAddress>
<cntPhone>
<voiceNum>303-296-3600</voiceNum>
</cntPhone>
</rpCntInfo>
<displayName>Name: GIS Manager
Organization: BLM Colorado State Office
Position: GIS Manager
Role: Point of Contact</displayName>
</stepProc>
</prcStep>
</dataLineage>
</dqInfo>
<spatRepInfo>
<Georect>
<cellGeo>
<CellGeoCd Sync="TRUE" value="002">
</CellGeoCd>
</cellGeo>
<numDims Sync="TRUE">2</numDims>
<tranParaAv Sync="TRUE">1</tranParaAv>
<chkPtAv Sync="TRUE">0</chkPtAv>
<cornerPts>
<pos Sync="TRUE">149852.429785 4106401.367141</pos>
</cornerPts>
<cornerPts>
<pos Sync="TRUE">149852.429785 4510479.322487</pos>
</cornerPts>
<cornerPts>
<pos Sync="TRUE">544706.945455 4510479.322487</pos>
</cornerPts>
<cornerPts>
<pos Sync="TRUE">544706.945455 4106401.367141</pos>
</cornerPts>
<centerPt>
<pos Sync="TRUE">347279.687620 4308440.344814</pos>
</centerPt>
<axisDimension type="002">
<dimSize Sync="TRUE">429897</dimSize>
<dimResol>
<value Sync="TRUE" uom="m">0.918486</value>
</dimResol>
</axisDimension>
<axisDimension type="001">
<dimSize Sync="TRUE">439939</dimSize>
<dimResol>
<value Sync="TRUE" uom="m">0.918486</value>
</dimResol>
</axisDimension>
<ptInPixel>
<PixOrientCd Sync="TRUE" value="001">
</PixOrientCd>
</ptInPixel>
</Georect>
</spatRepInfo>
<refSysInfo>
<RefSystem>
<refSysID>
<identCode Sync="TRUE" code="26913">
</identCode>
<idCodeSpace Sync="TRUE">EPSG</idCodeSpace>
<idVersion Sync="TRUE">6.11(3.0.1)</idVersion>
</refSysID>
</RefSystem>
</refSysInfo>
<contInfo>
<ImgDesc>
<contentTyp>
<ContentTypCd Sync="TRUE" value="001">
</ContentTypCd>
</contentTyp>
<covDim>
<Band>
<dimDescrp Sync="TRUE">Band_1</dimDescrp>
<maxVal Sync="TRUE">0.000000</maxVal>
<minVal Sync="TRUE">0.000000</minVal>
<bitsPerVal Sync="TRUE">8</bitsPerVal>
<valUnit>
<UOM type="length">
</UOM>
</valUnit>
</Band>
</covDim>
</ImgDesc>
</contInfo>
<eainfo>
<detailed>
<enttyp>
<enttypl>CO Coal Use Plats</enttypl>
<enttypd>Plats</enttypd>
</enttyp>
</detailed>
<overview>
<eaover>Colorado Coal Use Plats</eaover>
</overview>
</eainfo>
</metadata>
