{
 "currentVersion": 11.5,
 "serviceDescription": "The BLM Master Title Plats (MTPs) are large-scale graphic representations showing current federal land status information. Whenever the plat is too small to adequately display the information, a supplemental plat is prepared on a larger scale. Usually not more than four sections appear on a supplemental plat. If a supplemental plat has been made, the Master Title Plat will indicate it.\n\nThe Master Title Plat is the official Land Status record that portrays the current federal land status. Land status is based on the concepts of an original public domain of all potential surface and subsurface rights subject to appropriation over time. Appropriation encompasses actions that pass rights to and from the US, modify their spatial extents, assign managing federal agencies, impose and revoke restrictions on the rights, and grant and terminate authorized use of US rights. The MTPs display effects of appropriations produce the MTP as well as provide the ability to query views of the current federal land status.\n\nUsers are reminded that MTPs are the official records for federal land status, along with the MTP's Historical Indices (HI). These documents are maintained at the BLM Idaho State Office and are available through the Government Land Office (GLO) website: https://glorecords.blm.gov. Due to the complexity of land status, users of this data should direct questions to realty specialists and/or for land status questions. Generalizations of this data or looking at only one component of this data without looking at the entire set of documents available through the GLO may not provide a complete picture of land status or authorizations made by federal agencies at any given location. The official Land Tenure Records maintained by the BLM and other responsible Federal agencies should always be checked for current status on specific tracts of land. Please report discrepancies in the land status themes to the BLM 957 Spatial Products \u2013 Land Status and Title Records Team from which it was obtained.",
 "serviceItemId": "413517ee47fe45539ad56765afeeeabf",
 "name": "cadastral/BLM_ID_Supplemental_Master_Title_Plats_MTPs",
 "description": "The BLM Master Title Plats (MTPs) are large-scale graphic representations showing current federal land status information. Whenever the plat is too small to adequately display the information, a supplemental plat is prepared on a larger scale. Usually not more than four sections appear on a supplemental plat. If a supplemental plat has been made, the Master Title Plat will indicate it.\n\nThe Master Title Plat is the official Land Status record that portrays the current federal land status. Land status is based on the concepts of an original public domain of all potential surface and subsurface rights subject to appropriation over time. Appropriation encompasses actions that pass rights to and from the US, modify their spatial extents, assign managing federal agencies, impose and revoke restrictions on the rights, and grant and terminate authorized use of US rights. The MTPs display effects of appropriations produce the MTP as well as provide the ability to query views of the current federal land status.\n\nUsers are reminded that MTPs are the official records for federal land status, along with the MTP's Historical Indices (HI). These documents are maintained at the BLM Idaho State Office and are available through the Government Land Office (GLO) website: https://glorecords.blm.gov. Due to the complexity of land status, users of this data should direct questions to realty specialists and/or for land status questions. Generalizations of this data or looking at only one component of this data without looking at the entire set of documents available through the GLO may not provide a complete picture of land status or authorizations made by federal agencies at any given location. The official Land Tenure Records maintained by the BLM and other responsible Federal agencies should always be checked for current status on specific tracts of land. Please report discrepancies in the land status themes to the BLM 957 Spatial Products \u2013 Land Status and Title Records Team from which it was obtained.",
 "extent": {
  "xmin": 2242246.1859743944,
  "ymin": 1233227.8219397329,
  "xmax": 2735735.4010926792,
  "ymax": 1980258.8557815333,
  "spatialReference": {
   "wkid": 102605,
   "latestWkid": 8826
  }
 },
 "initialExtent": {
  "xmin": 2242246.1859743944,
  "ymin": 1233227.8219397329,
  "xmax": 2735735.4010926792,
  "ymax": 1980258.8557815333,
  "spatialReference": {
   "wkid": 102605,
   "latestWkid": 8826
  }
 },
 "fullExtent": {
  "xmin": 2242246.1859743944,
  "ymin": 1233227.8219397329,
  "xmax": 2735735.4010926792,
  "ymax": 1980258.8557815333,
  "spatialReference": {
   "wkid": 102605,
   "latestWkid": 8826
  }
 },
 "sortableFields": "MinPS,MaxPS,LowPS,HighPS,CenterX,CenterY,ZOrder,Shape_Length,Shape_Area",
 "bandCount": 1,
 "pixelType": "U8",
 "minValues": [
  0
 ],
 "maxValues": [
  0
 ],
 "meanValues": [
  0
 ],
 "stdvValues": [
  0
 ],
 "serviceProperties": "NorthWest<\/MosaicMethod>First<\/MosaicOperator>true<\/SortAscending><\/LockImageID>Name<\/TileOrderField>0<\/TileOrderBase>600.000000<\/AvgImageSpacingX>300.000000<\/AvgImageSpacingY>0.0<\/ViewPointX>0.0<\/ViewPointY>0.0<\/ViewPointDefShiftX>0.0<\/ViewPointDefShiftY>None<\/CompressionMethod>75<\/CompressionQuality>0.010000<\/CompressionTolerance>Bilinear<\/SamplingMethod><\/ImageServiceProperties><\/ImageServer>",
 "allowedFields": "Name,MinPS,MaxPS,LowPS,HighPS,Tag,GroupName,ProductName,CenterX,CenterY,ZOrder,Shape_Length,Shape_Area",
 "hasMultidimensions": false,
 "pixelSizeX": 0.05082464035691159,
 "pixelSizeY": 0.050824640356911616,
 "meanPixelSize": 0.0508246403569116,
 "datasetFormat": "AMD",
 "uncompressedSize": 142714362396870,
 "blockWidth": 2048,
 "blockHeight": 256,
 "compressionType": "None",
 "bandNames": [
  "Band_1"
 ],
 "allowCopy": true,
 "allowAnalysis": true,
 "itemAccess": false,
 "inspectionCapabilities": "",
 "minPixelSize": 0,
 "maxPixelSize": 0,
 "copyrightText": "Bureau of Land Management (BLM), Idaho State Office",
 "serviceDataType": "esriImageServiceDataTypeGeneric",
 "serviceSourceType": "esriImageServiceSourceTypeMosaicDataset",
 "objectIdField": "OBJECTID",
 "fields": [
  {
   "name": "OBJECTID",
   "type": "esriFieldTypeOID",
   "alias": "OBJECTID",
   "domain": null
  },
  {
   "name": "Shape",
   "type": "esriFieldTypeGeometry",
   "alias": "Shape",
   "domain": null
  },
  {
   "name": "Name",
   "type": "esriFieldTypeString",
   "alias": "Name",
   "domain": null,
   "length": 200
  },
  {
   "name": "MinPS",
   "type": "esriFieldTypeDouble",
   "alias": "MinPS",
   "domain": null
  },
  {
   "name": "MaxPS",
   "type": "esriFieldTypeDouble",
   "alias": "MaxPS",
   "domain": null
  },
  {
   "name": "LowPS",
   "type": "esriFieldTypeDouble",
   "alias": "LowPS",
   "domain": null
  },
  {
   "name": "HighPS",
   "type": "esriFieldTypeDouble",
   "alias": "HighPS",
   "domain": null
  },
  {
   "name": "Category",
   "type": "esriFieldTypeInteger",
   "alias": "Category",
   "domain": {
    "type": "codedValue",
    "name": "MosaicCatalogItemCategoryDomain",
    "description": "Catalog item categories.",
    "codedValues": [
     {
      "name": "Unknown",
      "code": 0
     },
     {
      "name": "Primary",
      "code": 1
     },
     {
      "name": "Overview",
      "code": 2
     },
     {
      "name": "Unprocessed Overview",
      "code": 3
     },
     {
      "name": "Partial Overview",
      "code": 4
     },
     {
      "name": "Inactive",
      "code": 5
     },
     {
      "name": "Uploaded",
      "code": 253
     },
     {
      "name": "Incomplete",
      "code": 254
     },
     {
      "name": "Custom",
      "code": 255
     }
    ],
    "mergePolicy": "esriMPTDefaultValue",
    "splitPolicy": "esriSPTDefaultValue"
   }
  },
  {
   "name": "Tag",
   "type": "esriFieldTypeString",
   "alias": "Tag",
   "domain": null,
   "length": 100
  },
  {
   "name": "GroupName",
   "type": "esriFieldTypeString",
   "alias": "GroupName",
   "domain": null,
   "length": 100
  },
  {
   "name": "ProductName",
   "type": "esriFieldTypeString",
   "alias": "ProductName",
   "domain": null,
   "length": 100
  },
  {
   "name": "CenterX",
   "type": "esriFieldTypeDouble",
   "alias": "CenterX",
   "domain": null
  },
  {
   "name": "CenterY",
   "type": "esriFieldTypeDouble",
   "alias": "CenterY",
   "domain": null
  },
  {
   "name": "ZOrder",
   "type": "esriFieldTypeInteger",
   "alias": "ZOrder",
   "domain": null
  },
  {
   "name": "Shape_Length",
   "type": "esriFieldTypeDouble",
   "alias": "Shape_Length",
   "domain": null
  },
  {
   "name": "Shape_Area",
   "type": "esriFieldTypeDouble",
   "alias": "Shape_Area",
   "domain": null
  }
 ],
 "capabilities": "Image,Metadata,Catalog",
 "defaultMosaicMethod": "Northwest",
 "allowedMosaicMethods": "NorthWest,Center,LockRaster,ByAttribute,Nadir,Viewpoint,Seamline,None",
 "sortField": "",
 "sortValue": null,
 "sortAscending": true,
 "mosaicOperator": "First",
 "maxDownloadSizeLimit": 2048,
 "defaultCompressionQuality": 75,
 "defaultResamplingMethod": "Bilinear",
 "maxImageHeight": 4100,
 "maxImageWidth": 15000,
 "maxRecordCount": 1000,
 "maxDownloadImageCount": 20,
 "maxMosaicImageCount": 20,
 "allowRasterFunction": true,
 "rasterFunctionInfos": [
  {
   "name": "None",
   "description": "",
   "help": ""
  }
 ],
 "rasterTypeInfos": [
  {
   "name": "Raster Dataset",
   "description": "Supports all ArcGIS Raster Datasets",
   "help": ""
  }
 ],
 "mensurationCapabilities": "None",
 "hasHistograms": true,
 "hasColormap": false,
 "hasRasterAttributeTable": false,
 "minScale": 0,
 "maxScale": 0,
 "exportTilesAllowed": false,
 "supportsStatistics": true,
 "supportsAdvancedQueries": true,
 "editFieldsInfo": null,
 "ownershipBasedAccessControlForRasters": null,
 "allowComputeTiePoints": false,
 "useStandardizedQueries": true,
 "advancedQueryCapabilities": {
  "useStandardizedQueries": true,
  "supportsStatistics": true,
  "supportsOrderBy": true,
  "supportsDistinct": true,
  "supportsPagination": true
 },
 "spatialReference": {
  "wkid": 102605,
  "latestWkid": 8826
 }
}
