{
 "currentVersion": 11.5,
 "cimVersion": "3.5.0",
 "serviceDescription": "This Map Cache Service features displays up to 577k feet for the PFYC data. Updated in 2022 to include additional lower 48 conterminous US states and remove Alaska from the national compilation. Downloadable version of this data is available at https://gbp-blm-egis.hub.arcgis.com/datasets/068a3f5506eb423bb025943deba67822/about. This data contains values for the Potential Fossil Yield Classification (PFYC) for ranking the potential of a geologic unit to produce scientifically significant fossils. It will not display once the user zooms in beyond 1:577,791. Use the BLM_Natl_PFYC map service to view at all other scales. Contains polygon boundaries between mappable geologic units and polygon codes for the mappable geologic units. Also contains fields for geologic ages and sort codes for sorting the units by time. Additional fields were added to the source data including earliest geologic age, latest geologic age, PFYC justification, PFYC rank (1-5), and a coded representation for the standardized BLM coloring scheme for PFYC maps.",
 "mapName": "BLM Natl PFYC GeologicFormation Cache",
 "description": "Geologic coverage. Contains polygon boundaries between mappable geologic units and polygon codes for the mappable geologic units. Contains values for the Potential Fossil Yield Classification (PFYC) for ranking the potential of a geologic unit to produce scientifically significant fossils. Also contains fields for geologic ages and sort codes for sorting the units by time. Detailed documentation on the mapped units can be found in the accompanying state generated reports. Additional fields were added to the source data including earliest geologic age, latest geologic age, PFYC justification, PFYC rank (1-5), and a coded representation for the standardized BLM coloring scheme for PFYC maps.",
 "copyrightText": "BLM Corporate data, USGS, Individual State Geologic Survey Offices",
 "supportsDynamicLayers": true,
 "layers": [
  {
   "id": 0,
   "name": "PFYC Geologic Formation Polygons Cache to 577K",
   "parentLayerId": -1,
   "defaultVisibility": true,
   "subLayerIds": null,
   "minScale": 0,
   "maxScale": 0,
   "type": "Feature Layer",
   "geometryType": "esriGeometryPolygon",
   "supportsDynamicLegends": true
  }
 ],
 "tables": [],
 "spatialReference": {
  "wkid": 102100,
  "latestWkid": 3857,
  "xyTolerance": 0.001,
  "zTolerance": 0.001,
  "mTolerance": 0.001,
  "falseX": -20037700,
  "falseY": -30241100,
  "xyUnits": 10000,
  "falseZ": -100000,
  "zUnits": 10000,
  "falseM": -100000,
  "mUnits": 10000
 },
 "singleFusedMapCache": true,
 "tileInfo": {
  "rows": 256,
  "cols": 256,
  "dpi": 96,
  "format": "MIXED",
  "compressionQuality": 75,
  "origin": {
   "x": -2.0037508342787E7,
   "y": 2.0037508342787E7
  },
  "spatialReference": {
   "wkid": 102100,
   "latestWkid": 3857,
   "xyTolerance": 0.001,
   "zTolerance": 0.001,
   "mTolerance": 0.001,
   "falseX": -20037700,
   "falseY": -30241100,
   "xyUnits": 1.4892314192838538E8,
   "falseZ": -100000,
   "zUnits": 10000,
   "falseM": -100000,
   "mUnits": 10000
  },
  "lods": [
   {
    "level": 0,
    "resolution": 156543.03392800014,
    "scale": 5.91657527591555E8
   },
   {
    "level": 1,
    "resolution": 78271.51696399994,
    "scale": 2.95828763795777E8
   },
   {
    "level": 2,
    "resolution": 39135.75848200009,
    "scale": 1.47914381897889E8
   },
   {
    "level": 3,
    "resolution": 19567.87924099992,
    "scale": 7.3957190948944E7
   },
   {
    "level": 4,
    "resolution": 9783.93962049996,
    "scale": 3.6978595474472E7
   },
   {
    "level": 5,
    "resolution": 4891.96981024998,
    "scale": 1.8489297737236E7
   },
   {
    "level": 6,
    "resolution": 2445.98490512499,
    "scale": 9244648.868618
   },
   {
    "level": 7,
    "resolution": 1222.992452562495,
    "scale": 4622324.434309
   },
   {
    "level": 8,
    "resolution": 611.4962262813797,
    "scale": 2311162.217155
   },
   {
    "level": 9,
    "resolution": 305.74811314055756,
    "scale": 1155581.108577
   },
   {
    "level": 10,
    "resolution": 152.87405657041106,
    "scale": 577790.554289
   },
   {
    "level": 11,
    "resolution": 76.43702828507324,
    "scale": 288895.277144
   },
   {
    "level": 12,
    "resolution": 38.21851414253662,
    "scale": 144447.638572
   },
   {
    "level": 13,
    "resolution": 19.10925707126831,
    "scale": 72223.819286
   },
   {
    "level": 14,
    "resolution": 9.554628535634155,
    "scale": 36111.909643
   },
   {
    "level": 15,
    "resolution": 4.77731426794937,
    "scale": 18055.954822
   },
   {
    "level": 16,
    "resolution": 2.388657133974685,
    "scale": 9027.977411
   },
   {
    "level": 17,
    "resolution": 1.1943285668550503,
    "scale": 4513.988705
   },
   {
    "level": 18,
    "resolution": 0.5971642835598172,
    "scale": 2256.994353
   },
   {
    "level": 19,
    "resolution": 0.29858214164761665,
    "scale": 1128.497176
   },
   {
    "level": 20,
    "resolution": 0.14929107082380833,
    "scale": 564.248588
   },
   {
    "level": 21,
    "resolution": 0.07464553541190416,
    "scale": 282.124294
   },
   {
    "level": 22,
    "resolution": 0.03732276770595208,
    "scale": 141.062147
   },
   {
    "level": 23,
    "resolution": 0.01866138385297604,
    "scale": 70.5310735
   }
  ]
 },
 "storageInfo": {
  "storageFormat": "esriMapCacheStorageModeCompactV2",
  "packetSize": 128
 },
 "initialExtent": {
  "xmin": -1.2988756770982344E7,
  "ymin": 4363316.946406122,
  "xmax": -1.2157899612920512E7,
  "ymax": 4889272.395087466,
  "spatialReference": {
   "cs": "pcs",
   "wkid": 102100
  }
 },
 "fullExtent": {
  "xmin": -1.9942312146613132E7,
  "ymin": 3676146.5815013694,
  "xmax": 2.0012450403370697E7,
  "ymax": 1.1536784858791865E7,
  "spatialReference": {
   "cs": "pcs",
   "wkid": 102100
  }
 },
 "datesInUnknownTimezone": false,
 "minScale": 5.91657527591555E8,
 "maxScale": 577790.554289,
 "units": "esriMeters",
 "supportedImageFormatTypes": "PNG32,PNG24,PNG,JPG,DIB,TIFF,EMF,PS,PDF,GIF,SVG,SVGZ,BMP",
 "documentInfo": {
  "Title": "BLM Natl PFYC GeologicFormation Cache",
  "Author": "",
  "Comments": "",
  "Subject": "",
  "Category": "",
  "Version": "3.5.0",
  "AntialiasingMode": "Fast",
  "TextAntialiasingMode": "Force",
  "Keywords": "Arizona,BLM PYFC,California,Colorado,Geologic Formations,Geology,geoscientificInformation,Geospatial,Idaho,Montana,Nevada,New Mexico,North Dakota,Oklahoma,Oregon,Paleontology,PYFC,South Dakota,Utah,Wyoming,map cache,polygon,Potential Fossil Yield Classification,Geologic Map Index"
 },
 "supportsQueryDomains": true,
 "capabilities": "Map,Query,Data",
 "supportedQueryFormats": "JSON, geoJSON, PBF",
 "exportTilesAllowed": false,
 "referenceScale": 0.0,
 "datumTransformations": [
  {
   "geoTransforms": [
    {
     "wkid": 108190,
     "latestWkid": 108190,
     "transformForward": false,
     "name": "WGS_1984_(ITRF00)_To_NAD_1983"
    }
   ]
  }
 ],
 "supportsDatumTransformation": true,
 "archivingInfo": {
  "supportsHistoricMoment": false
 },
 "supportsClipping": true,
 "supportsSpatialFilter": true,
 "supportsTimeRelation": true,
 "supportsQueryDataElements": true,
 "mapUnits": {
  "uwkid": 9001
 },
 "maxSelectionCount": 2000,
 "maxRecordCount": 2000,
 "maxImageHeight": 4096,
 "maxImageWidth": 4096,
 "supportedExtensions": "KmlServer, WMSServer",
 "resampling": false,
 "serviceItemId": "f5e02988b6324e96824e8654616bddcc"
}
