View In:
ArcGIS JavaScript
ArcGIS Enterprise Map Viewer
ArcGIS Earth
Service Description: A Master Title Plat (MTP) is a graphic illustration of land and mineral status within a township. The base of the MTP is based on the most recent survey information. MTPs are continually updated as status or survey information changes. If there is a lot of detail within a small area, a supplemental plat is created (enlarging the detail for easier drafting and reading). A Use Plat is created for certain uses, such as oil and gas leasing, coal leasing, and other minerals. Additional plats will be posted as they become available.
Name: cadastral/BLM_CO_Coal_Use_Supplemental_Plats
Description: A Master Title Plat (MTP) is a graphic illustration of land and mineral status within a township. The base of the MTP is based on the most recent survey information. MTPs are continually updated as status or survey information changes. If there is a lot of detail within a small area, a supplemental plat is created (enlarging the detail for easier drafting and reading). A Use Plat is created for certain uses, such as oil and gas leasing, coal leasing, and other minerals. Additional plats will be posted as they become available.
Single Fused Map Cache: false
Extent:
XMin: 172729.2513028685
YMin: 4309744.015997262
XMax: 293223.7512528078
YMax: 4461782.827414847
Spatial Reference: 26913
(26913)
LatestVCSWkid(0)
Initial Extent:
XMin: 172729.2513028685
YMin: 4309744.015997262
XMax: 293223.7512528078
YMax: 4461782.827414847
Spatial Reference: 26913
(26913)
LatestVCSWkid(0)
Full Extent:
XMin: 172729.2513028685
YMin: 4309744.015997262
XMax: 293223.7512528078
YMax: 4461782.827414847
Spatial Reference: 26913
(26913)
LatestVCSWkid(0)
Pixel Size X: 0.18177806668306912
Pixel Size Y: 0.18177806668306865
Band Count: 1
Pixel Type: U8
RasterFunction Infos: {"rasterFunctionInfos": [{
"name": "None",
"description": "",
"help": ""
}]}
Mensuration Capabilities: Basic
Inspection Capabilities:
Has Histograms: false
Has Colormap: false
Has Multi Dimensions : false
Rendering Rule:
Min Scale: 0
Max Scale: 0
Copyright Text: BLM Colorado State Office
Service Data Type: esriImageServiceDataTypeGeneric
Min Values: N/A
Max Values: N/A
Mean Values: N/A
Standard Deviation Values: N/A
Object ID Field: OBJECTID
Fields:
-
OBJECTID
(
type: esriFieldTypeOID, alias: OBJECTID
)
-
Shape
(
type: esriFieldTypeGeometry, alias: Shape
)
-
Name
(
type: esriFieldTypeString, alias: Name, length: 200
)
-
MinPS
(
type: esriFieldTypeDouble, alias: MinPS
)
-
MaxPS
(
type: esriFieldTypeDouble, alias: MaxPS
)
-
LowPS
(
type: esriFieldTypeDouble, alias: LowPS
)
-
HighPS
(
type: esriFieldTypeDouble, alias: HighPS
)
-
Category
(
type: esriFieldTypeInteger, alias: Category
, Coded Values:
[0: Unknown]
, [1: Primary]
, [2: Overview]
, ...6 more...
)
-
Tag
(
type: esriFieldTypeString, alias: Tag, length: 100
)
-
GroupName
(
type: esriFieldTypeString, alias: GroupName, length: 100
)
-
ProductName
(
type: esriFieldTypeString, alias: ProductName, length: 100
)
-
CenterX
(
type: esriFieldTypeDouble, alias: CenterX
)
-
CenterY
(
type: esriFieldTypeDouble, alias: CenterY
)
-
ZOrder
(
type: esriFieldTypeInteger, alias: ZOrder
)
-
Shape_Length
(
type: esriFieldTypeDouble, alias: Shape_Length
)
-
Shape_Area
(
type: esriFieldTypeDouble, alias: Shape_Area
)
Default Mosaic Method: Northwest
Allowed Mosaic Methods: NorthWest,Center,LockRaster,ByAttribute,Nadir,Viewpoint,Seamline,None
SortField:
SortValue: null
Mosaic Operator: First
Default Compression Quality: 75
Default Resampling Method: Bilinear
Max Record Count: 1000
Max Image Height: 4100
Max Image Width: 15000
Max Download Image Count: 20
Max Mosaic Image Count: 20
Allow Raster Function: true
Allow Copy: true
Allow Analysis: true
Allow Compute TiePoints: false
Supports Statistics: true
Supports Advanced Queries: true
Use StandardizedQueries: true
Raster Type Infos:
Name: Raster Dataset
Description: Supports all ArcGIS Raster Datasets
Help:
Has Raster Attribute Table: false
Edit Fields Info: null
Ownership Based AccessControl For Rasters: null
Child Resources:
Info
Statistics
Key Properties
Legend
Raster Function Infos
Supported Operations:
Export Image
Query
Identify
Measure
Compute Histograms
Compute Statistics Histograms
Get Samples
Compute Class Statistics
Query GPS Info
Find Images
Image to Map
Map to Image
Measure from Image
Image to Map Multiray
Query Boundary
Compute Pixel Location
Compute Angles
Validate
Project