View In:
ArcGIS JavaScript
ArcGIS Online Map Viewer
ArcGIS Earth
Service Description: A Master Title Plat (MTP) is a graphic illustration of land and mineral status within a township. The base of the MTP is based on the most recent survey information. MTPs are continually updated as status or survey information changes. If there is a lot of detail within a small area, a supplemental plat is created (enlarging the detail for easier drafting and reading). A Use Plat is created for certain uses, such as oil and gas leasing, coal leasing, and other minerals. Additional plats will be posted as they become available.
Name: cadastral/BLM_CO_Townsite_Plats
Description: A Master Title Plat (MTP) is a graphic illustration of land and mineral status within a township. The base of the MTP is based on the most recent survey information. MTPs are continually updated as status or survey information changes. If there is a lot of detail within a small area, a supplemental plat is created (enlarging the detail for easier drafting and reading). A Use Plat is created for certain uses, such as oil and gas leasing, coal leasing, and other minerals. Additional plats will be posted as they become available.
Single Fused Map Cache: false
Extent:
XMin: 378454.5508000003
YMin: 4266353.270012853
XMax: 385747.45234938903
YMax: 4267442.628900001
Spatial Reference: 26913
(26913)
LatestVCSWkid(0)
Initial Extent:
XMin: 378454.5508000003
YMin: 4266353.270012853
XMax: 385747.45234938903
YMax: 4267442.628900001
Spatial Reference: 26913
(26913)
LatestVCSWkid(0)
Full Extent:
XMin: 378454.5508000003
YMin: 4266353.270012853
XMax: 385747.45234938903
YMax: 4267442.628900001
Spatial Reference: 26913
(26913)
LatestVCSWkid(0)
Pixel Size X: 0.03931568092782978
Pixel Size Y: 0.039315680927821915
Band Count: 1
Pixel Type: U8
RasterFunction Infos: {"rasterFunctionInfos": [{
"name": "None",
"description": "",
"help": ""
}]}
Mensuration Capabilities: None
Inspection Capabilities:
Has Histograms: true
Has Colormap: false
Has Multi Dimensions : false
Rendering Rule:
Min Scale: 0
Max Scale: 0
Resampling: false
Copyright Text: BLM Colorado
Service Data Type: esriImageServiceDataTypeGeneric
Min Values: 0
Max Values: 0
Mean Values: 0
Standard Deviation Values: 0
Object ID Field: OBJECTID
Fields:
-
OBJECTID
(
type: esriFieldTypeOID, alias: OBJECTID
)
-
Shape
(
type: esriFieldTypeGeometry, alias: Shape
)
-
Name
(
type: esriFieldTypeString, alias: Name, length: 200
)
-
MinPS
(
type: esriFieldTypeDouble, alias: MinPS
)
-
MaxPS
(
type: esriFieldTypeDouble, alias: MaxPS
)
-
LowPS
(
type: esriFieldTypeDouble, alias: LowPS
)
-
HighPS
(
type: esriFieldTypeDouble, alias: HighPS
)
-
Category
(
type: esriFieldTypeInteger, alias: Category
, Coded Values:
[0: Unknown]
, [1: Primary]
, [2: Overview]
, ...6 more...
)
-
Tag
(
type: esriFieldTypeString, alias: Tag, length: 100
)
-
GroupName
(
type: esriFieldTypeString, alias: GroupName, length: 100
)
-
ProductName
(
type: esriFieldTypeString, alias: ProductName, length: 100
)
-
CenterX
(
type: esriFieldTypeDouble, alias: CenterX
)
-
CenterY
(
type: esriFieldTypeDouble, alias: CenterY
)
-
ZOrder
(
type: esriFieldTypeInteger, alias: ZOrder
)
-
Shape_Length
(
type: esriFieldTypeDouble, alias: Shape_Length
)
-
Shape_Area
(
type: esriFieldTypeDouble, alias: Shape_Area
)
Default Mosaic Method: Northwest
Allowed Mosaic Methods: NorthWest,Center,LockRaster,ByAttribute,Nadir,Viewpoint,Seamline,None
SortField:
SortValue: null
Mosaic Operator: First
Default Compression Quality: 75
Default Resampling Method: Bilinear
Max Record Count: 1000
Max Image Height: 4100
Max Image Width: 15000
Max Download Image Count: 20
Max Mosaic Image Count: 20
Allow Raster Function: true
Allow Copy: true
Allow Analysis: true
Allow Compute TiePoints: false
Supports Statistics: true
Supports Advanced Queries: true
Use StandardizedQueries: true
Raster Type Infos:
Name: Raster Dataset
Description: Supports all ArcGIS Raster Datasets
Help:
Has Raster Attribute Table: false
Edit Fields Info: null
Ownership Based AccessControl For Rasters: null
Child Resources:
Info
Histograms
Statistics
Key Properties
Legend
Raster Function Infos
Supported Operations:
Export Image
Query
Identify
Compute Histograms
Compute Statistics Histograms
Get Samples
Compute Class Statistics
Query GPS Info
Find Images
Image to Map
Map to Image
Measure from Image
Image to Map Multiray
Query Boundary
Compute Pixel Location
Compute Angles
Validate
Project