View In:
ArcGIS JavaScript
ArcGIS Online Map Viewer
ArcGIS Earth
Service Description: The Bureau of Land Management (BLM) has accumulated an extensive collection of aerial film, which is currently being scanned and archived by the U.S Geological Survey (USGS) Digital copies of these scans represent an important resource for documenting past surface conditions on BLM lands. The orthomosaics used to create this image service have undergone a rigorous photogrammetric processing workflow in order to create an orthorectified product from which fairly accurate measurements are possible. These data are provided BLM "as is" and may contain errors or omissions. The User assumes the entire risk associated with its use of these data and recognizes that this data will never be 100% QCed.
Name: HistoricImagery/BLM_Utah_Historic_Imagery
Description: The Bureau of Land Management (BLM) has accumulated an extensive collection of aerial film, which is currently being scanned and archived by the U.S Geological Survey (USGS) Digital copies of these scans represent an important resource for documenting past surface conditions on BLM lands. The orthomosaics used to create this image service have undergone a rigorous photogrammetric processing workflow in order to create an orthorectified product from which fairly accurate measurements are possible. These data are provided BLM "as is" and may contain errors or omissions. The User assumes the entire risk associated with its use of these data and recognizes that this data will never be 100% QCed.
Single Fused Map Cache: false
Extent:
XMin: -1.27120578947E7
YMin: 4421083.771415471
XMax: -1.210103804038801E7
YMax: 5171018.784699999
Spatial Reference: 102100
(3857)
LatestVCSWkid(0)
Initial Extent:
XMin: -1.27120578947E7
YMin: 4421083.771415471
XMax: -1.210103804038801E7
YMax: 5171018.784699999
Spatial Reference: 102100
(3857)
LatestVCSWkid(0)
Full Extent:
XMin: -1.27120578947E7
YMin: 4421083.771415471
XMax: -1.210103804038801E7
YMax: 5171018.784699999
Spatial Reference: 102100
(3857)
LatestVCSWkid(0)
Time Info:
Start Time Field: Year
End Time Field: Year
Time Extent:
[1938/01/01 00:00:00 UTC, 1983/01/01 00:00:00 UTC]
Time Reference:
N/A
Pixel Size X: 0.04008005874666642
Pixel Size Y: 0.0400800587466664
Band Count: 3
Pixel Type: U8
RasterFunction Infos: {"rasterFunctionInfos": [{
"name": "None",
"description": "A No-Op Function.",
"help": ""
}]}
Mensuration Capabilities: Basic
Inspection Capabilities:
Has Histograms: false
Has Colormap: false
Has Multi Dimensions : false
Rendering Rule:
Min Scale: 0
Max Scale: 0
Resampling: false
Copyright Text: Bureau of Land Managment Utah State Office, Bureau of Land Management National Operations Centers Geospatial Imaging Section, OC-534,
Service Data Type: esriImageServiceDataTypeRGB
Min Values: N/A
Max Values: N/A
Mean Values: N/A
Standard Deviation Values: N/A
Object ID Field: OBJECTID
Fields:
-
OBJECTID
(
type: esriFieldTypeOID, alias: OBJECTID
)
-
Shape
(
type: esriFieldTypeGeometry, alias: Shape
)
-
Name
(
type: esriFieldTypeString, alias: Name, length: 200
)
-
MinPS
(
type: esriFieldTypeDouble, alias: MinPS
)
-
MaxPS
(
type: esriFieldTypeDouble, alias: MaxPS
)
-
LowPS
(
type: esriFieldTypeDouble, alias: LowPS
)
-
HighPS
(
type: esriFieldTypeDouble, alias: HighPS
)
-
Category
(
type: esriFieldTypeInteger, alias: Category
, Coded Values:
[0: Unknown]
, [1: Primary]
, [2: Overview]
, ...6 more...
)
-
Tag
(
type: esriFieldTypeString, alias: Tag, length: 100
)
-
GroupName
(
type: esriFieldTypeString, alias: GroupName, length: 100
)
-
ProductName
(
type: esriFieldTypeString, alias: ProductName, length: 100
)
-
CenterX
(
type: esriFieldTypeDouble, alias: CenterX
)
-
CenterY
(
type: esriFieldTypeDouble, alias: CenterY
)
-
ZOrder
(
type: esriFieldTypeInteger, alias: ZOrder
)
-
Shape_Length
(
type: esriFieldTypeDouble, alias: Shape_Length
)
-
Shape_Area
(
type: esriFieldTypeDouble, alias: Shape_Area
)
-
Project
(
type: esriFieldTypeString, alias: Project, length: 35
)
-
Type
(
type: esriFieldTypeString, alias: Type, length: 20
)
-
Year
(
type: esriFieldTypeSmallInteger, alias: Year
)
-
ProjDesc
(
type: esriFieldTypeString, alias: Project Description, length: 32767
)
Default Mosaic Method: Northwest
Allowed Mosaic Methods: NorthWest,Center,LockRaster,ByAttribute,Nadir,Viewpoint,Seamline,None
SortField:
SortValue: null
Mosaic Operator: First
Default Compression Quality: 75
Default Resampling Method: Bilinear
Max Record Count: 1000
Max Image Height: 4100
Max Image Width: 15000
Max Download Image Count: 20
Max Mosaic Image Count: 20
Allow Raster Function: true
Allow Copy: true
Allow Analysis: true
Allow Compute TiePoints: false
Supports Statistics: true
Supports Advanced Queries: true
Use StandardizedQueries: true
Raster Type Infos:
Name: Raster Dataset
Description: Supports all ArcGIS Raster Datasets
Help:
Has Raster Attribute Table: false
Edit Fields Info: null
Ownership Based AccessControl For Rasters: null
Child Resources:
Info
Statistics
Key Properties
Legend
Raster Function Infos
Supported Operations:
Export Image
Query
Identify
Measure
Compute Histograms
Compute Statistics Histograms
Get Samples
Compute Class Statistics
Query GPS Info
Find Images
Image to Map
Map to Image
Measure from Image
Image to Map Multiray
Query Boundary
Compute Pixel Location
Compute Angles
Validate
Project