View In:
ArcGIS JavaScript
ArcGIS Enterprise Map Viewer
ArcGIS Earth
Service Description: The BLM Master Title Plats (MTPs) are large-scale graphic representations showing current federal land status information. Whenever the plat is too small to adequately display the information, a supplemental plat is prepared on a larger scale. Usually not more than four sections appear on a supplemental plat. If a supplemental plat has been made, the Master Title Plat will indicate it.
The Master Title Plat is the official Land Status record that portrays the current federal land status. Land status is based on the concepts of an original public domain of all potential surface and subsurface rights subject to appropriation over time. Appropriation encompasses actions that pass rights to and from the US, modify their spatial extents, assign managing federal agencies, impose and revoke restrictions on the rights, and grant and terminate authorized use of US rights. The MTPs display effects of appropriations produce the MTP as well as provide the ability to query views of the current federal land status.
Users are reminded that MTPs are the official records for federal land status, along with the MTP's Historical Indices (HI). These documents are maintained at the BLM Idaho State Office and are available through the Government Land Office (GLO) website: https://glorecords.blm.gov. Due to the complexity of land status, users of this data should direct questions to realty specialists and/or for land status questions. Generalizations of this data or looking at only one component of this data without looking at the entire set of documents available through the GLO may not provide a complete picture of land status or authorizations made by federal agencies at any given location. The official Land Tenure Records maintained by the BLM and other responsible Federal agencies should always be checked for current status on specific tracts of land. Please report discrepancies in the land status themes to the BLM 957 Spatial Products – Land Status and Title Records Team from which it was obtained.
Name: cadastral/BLM_ID_Supplemental_Master_Title_Plats_MTPs
Description: The BLM Master Title Plats (MTPs) are large-scale graphic representations showing current federal land status information. Whenever the plat is too small to adequately display the information, a supplemental plat is prepared on a larger scale. Usually not more than four sections appear on a supplemental plat. If a supplemental plat has been made, the Master Title Plat will indicate it.
The Master Title Plat is the official Land Status record that portrays the current federal land status. Land status is based on the concepts of an original public domain of all potential surface and subsurface rights subject to appropriation over time. Appropriation encompasses actions that pass rights to and from the US, modify their spatial extents, assign managing federal agencies, impose and revoke restrictions on the rights, and grant and terminate authorized use of US rights. The MTPs display effects of appropriations produce the MTP as well as provide the ability to query views of the current federal land status.
Users are reminded that MTPs are the official records for federal land status, along with the MTP's Historical Indices (HI). These documents are maintained at the BLM Idaho State Office and are available through the Government Land Office (GLO) website: https://glorecords.blm.gov. Due to the complexity of land status, users of this data should direct questions to realty specialists and/or for land status questions. Generalizations of this data or looking at only one component of this data without looking at the entire set of documents available through the GLO may not provide a complete picture of land status or authorizations made by federal agencies at any given location. The official Land Tenure Records maintained by the BLM and other responsible Federal agencies should always be checked for current status on specific tracts of land. Please report discrepancies in the land status themes to the BLM 957 Spatial Products – Land Status and Title Records Team from which it was obtained.
Single Fused Map Cache: false
Extent:
XMin: 2242246.1859743944
YMin: 1233227.8219397329
XMax: 2735735.4010926792
YMax: 1980258.8557815333
Spatial Reference: 102605
(8826)
LatestVCSWkid(0)
Initial Extent:
XMin: 2242246.1859743944
YMin: 1233227.8219397329
XMax: 2735735.4010926792
YMax: 1980258.8557815333
Spatial Reference: 102605
(8826)
LatestVCSWkid(0)
Full Extent:
XMin: 2242246.1859743944
YMin: 1233227.8219397329
XMax: 2735735.4010926792
YMax: 1980258.8557815333
Spatial Reference: 102605
(8826)
LatestVCSWkid(0)
Pixel Size X: 0.05082464035691159
Pixel Size Y: 0.050824640356911616
Band Count: 1
Pixel Type: U8
RasterFunction Infos: {"rasterFunctionInfos": [{
"name": "None",
"description": "",
"help": ""
}]}
Mensuration Capabilities: None
Inspection Capabilities:
Has Histograms: true
Has Colormap: false
Has Multi Dimensions : false
Rendering Rule:
Min Scale: 0
Max Scale: 0
Copyright Text: Bureau of Land Management (BLM), Idaho State Office
Service Data Type: esriImageServiceDataTypeGeneric
Min Values: 0
Max Values: 0
Mean Values: 0
Standard Deviation Values: 0
Object ID Field: OBJECTID
Fields:
-
OBJECTID
(
type: esriFieldTypeOID, alias: OBJECTID
)
-
Shape
(
type: esriFieldTypeGeometry, alias: Shape
)
-
Name
(
type: esriFieldTypeString, alias: Name, length: 200
)
-
MinPS
(
type: esriFieldTypeDouble, alias: MinPS
)
-
MaxPS
(
type: esriFieldTypeDouble, alias: MaxPS
)
-
LowPS
(
type: esriFieldTypeDouble, alias: LowPS
)
-
HighPS
(
type: esriFieldTypeDouble, alias: HighPS
)
-
Category
(
type: esriFieldTypeInteger, alias: Category
, Coded Values:
[0: Unknown]
, [1: Primary]
, [2: Overview]
, ...6 more...
)
-
Tag
(
type: esriFieldTypeString, alias: Tag, length: 100
)
-
GroupName
(
type: esriFieldTypeString, alias: GroupName, length: 100
)
-
ProductName
(
type: esriFieldTypeString, alias: ProductName, length: 100
)
-
CenterX
(
type: esriFieldTypeDouble, alias: CenterX
)
-
CenterY
(
type: esriFieldTypeDouble, alias: CenterY
)
-
ZOrder
(
type: esriFieldTypeInteger, alias: ZOrder
)
-
Shape_Length
(
type: esriFieldTypeDouble, alias: Shape_Length
)
-
Shape_Area
(
type: esriFieldTypeDouble, alias: Shape_Area
)
Default Mosaic Method: Northwest
Allowed Mosaic Methods: NorthWest,Center,LockRaster,ByAttribute,Nadir,Viewpoint,Seamline,None
SortField:
SortValue: null
Mosaic Operator: First
Default Compression Quality: 75
Default Resampling Method: Bilinear
Max Record Count: 1000
Max Image Height: 4100
Max Image Width: 15000
Max Download Image Count: 20
Max Mosaic Image Count: 20
Allow Raster Function: true
Allow Copy: true
Allow Analysis: true
Allow Compute TiePoints: false
Supports Statistics: true
Supports Advanced Queries: true
Use StandardizedQueries: true
Raster Type Infos:
Name: Raster Dataset
Description: Supports all ArcGIS Raster Datasets
Help:
Has Raster Attribute Table: false
Edit Fields Info: null
Ownership Based AccessControl For Rasters: null
Child Resources:
Info
Histograms
Statistics
Key Properties
Legend
Raster Function Infos
Supported Operations:
Export Image
Query
Identify
Compute Histograms
Compute Statistics Histograms
Get Samples
Compute Class Statistics
Query GPS Info
Find Images
Image to Map
Map to Image
Measure from Image
Image to Map Multiray
Query Boundary
Compute Pixel Location
Compute Angles
Validate
Project