View In:
ArcGIS JavaScript
ArcGIS Online Map Viewer
ArcGIS Earth
ArcGIS Pro
Service Description: This Map Cache Service features displays up to 577k feet for the PFYC data. Updated in 2022 to include additional lower 48 conterminous US states and remove Alaska from the national compilation. Downloadable version of this data is available at https://gbp-blm-egis.hub.arcgis.com/datasets/068a3f5506eb423bb025943deba67822/about. This data contains values for the Potential Fossil Yield Classification (PFYC) for ranking the potential of a geologic unit to produce scientifically significant fossils. It will not display once the user zooms in beyond 1:577,791. Use the BLM_Natl_PFYC map service to view at all other scales. Contains polygon boundaries between mappable geologic units and polygon codes for the mappable geologic units. Also contains fields for geologic ages and sort codes for sorting the units by time. Additional fields were added to the source data including earliest geologic age, latest geologic age, PFYC justification, PFYC rank (1-5), and a coded representation for the standardized BLM coloring scheme for PFYC maps.
Map Name: BLM Natl PFYC GeologicFormation Cache
Legend
All Layers and Tables
Dynamic Legend
Dynamic All Layers
Layers:
Description: Geologic coverage. Contains polygon boundaries between mappable geologic units and polygon codes for the mappable geologic units. Contains values for the Potential Fossil Yield Classification (PFYC) for ranking the potential of a geologic unit to produce scientifically significant fossils. Also contains fields for geologic ages and sort codes for sorting the units by time. Detailed documentation on the mapped units can be found in the accompanying state generated reports. Additional fields were added to the source data including earliest geologic age, latest geologic age, PFYC justification, PFYC rank (1-5), and a coded representation for the standardized BLM coloring scheme for PFYC maps.
Service Item Id: f5e02988b6324e96824e8654616bddcc
Copyright Text: BLM Corporate data, USGS, Individual State Geologic Survey Offices
Spatial Reference:
102100
(3857)
LatestVCSWkid(0)
Single Fused Map Cache: true
Tile Info:
- Height: 256.0
- Width: 256.0
- DPI: 96.0
-
Levels of Detail: 24
-
Level ID: 0
[ Start Tile, End Tile ]
- Resolution: 156543.03392800014
- Scale: 5.91657527591555E8
-
Level ID: 1
[ Start Tile, End Tile ]
- Resolution: 78271.51696399994
- Scale: 2.95828763795777E8
-
Level ID: 2
[ Start Tile, End Tile ]
- Resolution: 39135.75848200009
- Scale: 1.47914381897889E8
-
Level ID: 3
[ Start Tile, End Tile ]
- Resolution: 19567.87924099992
- Scale: 7.3957190948944E7
-
Level ID: 4
[ Start Tile, End Tile ]
- Resolution: 9783.93962049996
- Scale: 3.6978595474472E7
-
Level ID: 5
[ Start Tile, End Tile ]
- Resolution: 4891.96981024998
- Scale: 1.8489297737236E7
- Format: MIXED
- Compression Quality: 75.0
- Origin: X: -2.0037508342787E7
Y: 2.0037508342787E7
- Spatial Reference: 102100
(3857)
LatestVCSWkid(0)
Storage Info:
- Storage Format: esriMapCacheStorageModeCompactV2
- Packet Size: 128
Initial Extent:
XMin: -1.2988756770982344E7
YMin: 4363316.946406122
XMax: -1.2157899612920512E7
YMax: 4889272.395087466
Spatial Reference: 102100
(0)
LatestVCSWkid(0)
Full Extent:
XMin: -1.9942312146613132E7
YMin: 3676146.5815013694
XMax: 2.0012450403370697E7
YMax: 1.1536784858791865E7
Spatial Reference: 102100
(0)
LatestVCSWkid(0)
Units: esriMeters
Supported Image Format Types: PNG32,PNG24,PNG,JPG,DIB,TIFF,EMF,PS,PDF,GIF,SVG,SVGZ,BMP
Document Info:
Title: BLM Natl PFYC GeologicFormation Cache
Author:
Comments:
Subject:
Category:
Keywords: Arizona,BLM PYFC,California,Colorado,Geologic Formations,Geology,geoscientificInformation,Geospatial,Idaho,Montana,Nevada,New Mexico,North Dakota,Oklahoma,Oregon,Paleontology,PYFC,South Dakota,Utah,Wyoming,map cache,polygon,Potential Fossil Yield Classification,Geologic Map Index
AntialiasingMode: Fast
TextAntialiasingMode: Force
Supports Dynamic Layers: true
Resampling: false
MaxRecordCount: 2000
MaxSelectionCount: 2000
MaxImageHeight: 4096
MaxImageWidth: 4096
Supported Query Formats: JSON, geoJSON, PBF
Supports Query Data Elements: true
Min Scale: 5.91657527591555E8
Max Scale: 577790.554289
Supports Datum Transformation: true
Child Resources:
Info
Dynamic Layer
Supported Operations:
Export Map
Identify
QueryLegends
QueryDomains
Find
Return Updates
Generate KML